BEGIN:VCALENDAR
VERSION:2.0
PRODID:-//First Baptist Church - ECPv6.15.20//NONSGML v1.0//EN
CALSCALE:GREGORIAN
METHOD:PUBLISH
X-ORIGINAL-URL:https://firstbaptistlawrence.com
X-WR-CALDESC:Events for First Baptist Church
REFRESH-INTERVAL;VALUE=DURATION:PT1H
X-Robots-Tag:noindex
X-PUBLISHED-TTL:PT1H
BEGIN:VTIMEZONE
TZID:America/Chicago
BEGIN:DAYLIGHT
TZOFFSETFROM:-0600
TZOFFSETTO:-0500
TZNAME:CDT
DTSTART:20240310T080000
END:DAYLIGHT
BEGIN:STANDARD
TZOFFSETFROM:-0500
TZOFFSETTO:-0600
TZNAME:CST
DTSTART:20241103T070000
END:STANDARD
BEGIN:DAYLIGHT
TZOFFSETFROM:-0600
TZOFFSETTO:-0500
TZNAME:CDT
DTSTART:20250309T080000
END:DAYLIGHT
BEGIN:STANDARD
TZOFFSETFROM:-0500
TZOFFSETTO:-0600
TZNAME:CST
DTSTART:20251102T070000
END:STANDARD
BEGIN:DAYLIGHT
TZOFFSETFROM:-0600
TZOFFSETTO:-0500
TZNAME:CDT
DTSTART:20260308T080000
END:DAYLIGHT
BEGIN:STANDARD
TZOFFSETFROM:-0500
TZOFFSETTO:-0600
TZNAME:CST
DTSTART:20261101T070000
END:STANDARD
END:VTIMEZONE
BEGIN:VEVENT
DTSTART;TZID=America/Chicago:20250412T150000
DTEND;TZID=America/Chicago:20250412T170000
DTSTAMP:20260423T234308
CREATED:20250408T023735Z
LAST-MODIFIED:20250408T023846Z
UID:10021995-1744470000-1744477200@firstbaptistlawrence.com
SUMMARY:Parent Get-Together
DESCRIPTION:Parents! Join us for the Parent Get-Together on Saturday\, April 12th from 3:00-5:00pm. We’re going to do a Paint & Snack. The paint activity will be all set up for you\, and you just need to bring a snack to share with the group. No experience is required for our paint project. It’s more about doing something fun together than creating a masterpiece. I’ll have childcare ready to go for anyone who needs it. If possible\, please let Pastor Cristina know if you plan to come and if you’re bringing any kids.
URL:https://firstbaptistlawrence.com/event/parent-get-together/
ATTACH;FMTTYPE=image/jpeg:https://firstbaptistlawrence.com/wp-content/uploads/2025/04/Parents-Get-Together-2025_04_12.jpg
END:VEVENT
END:VCALENDAR