BEGIN:VCALENDAR
VERSION:2.0
PRODID:-//First Baptist Church - ECPv6.15.20//NONSGML v1.0//EN
CALSCALE:GREGORIAN
METHOD:PUBLISH
X-ORIGINAL-URL:https://firstbaptistlawrence.com
X-WR-CALDESC:Events for First Baptist Church
REFRESH-INTERVAL;VALUE=DURATION:PT1H
X-Robots-Tag:noindex
X-PUBLISHED-TTL:PT1H
BEGIN:VTIMEZONE
TZID:America/Chicago
BEGIN:DAYLIGHT
TZOFFSETFROM:-0600
TZOFFSETTO:-0500
TZNAME:CDT
DTSTART:20250309T080000
END:DAYLIGHT
BEGIN:STANDARD
TZOFFSETFROM:-0500
TZOFFSETTO:-0600
TZNAME:CST
DTSTART:20251102T070000
END:STANDARD
BEGIN:DAYLIGHT
TZOFFSETFROM:-0600
TZOFFSETTO:-0500
TZNAME:CDT
DTSTART:20260308T080000
END:DAYLIGHT
BEGIN:STANDARD
TZOFFSETFROM:-0500
TZOFFSETTO:-0600
TZNAME:CST
DTSTART:20261101T070000
END:STANDARD
BEGIN:DAYLIGHT
TZOFFSETFROM:-0600
TZOFFSETTO:-0500
TZNAME:CDT
DTSTART:20270314T080000
END:DAYLIGHT
BEGIN:STANDARD
TZOFFSETFROM:-0500
TZOFFSETTO:-0600
TZNAME:CST
DTSTART:20271107T070000
END:STANDARD
END:VTIMEZONE
BEGIN:VEVENT
DTSTART;TZID=America/Chicago:20260114T170000
DTEND;TZID=America/Chicago:20260114T170100
DTSTAMP:20260422T224922
CREATED:20260108T180151Z
LAST-MODIFIED:20260108T180154Z
UID:10022992-1768410000-1768410060@firstbaptistlawrence.com
SUMMARY:Signup Deadline: Team Green Hazardous Waste & Dead Christmas Light Pickup
DESCRIPTION:Sign up by 1/14 at 5:00 p.m. to have Team Green come by your house to pick up your hazardous waste items and dead Christmas lights on 1/1! Find more details and signup link on the Hazardous Waste Pickup page.
URL:https://firstbaptistlawrence.com/event/signup-deadline-team-green-hazardous-waste-dead-christmas-light-pickup/
CATEGORIES:Earthworks,Team Green Hazardous Waste Collection
ATTACH;FMTTYPE=image/jpeg:https://firstbaptistlawrence.com/wp-content/uploads/2024/09/Haz-Waste-Signup-Deadline-1920x1080-1.jpg
END:VEVENT
BEGIN:VEVENT
DTSTART;TZID=America/Chicago:20260114T183000
DTEND;TZID=America/Chicago:20260114T193000
DTSTAMP:20260422T224922
CREATED:20260103T225601Z
LAST-MODIFIED:20260103T225604Z
UID:10022988-1768415400-1768419000@firstbaptistlawrence.com
SUMMARY:Men's Bible Study
DESCRIPTION:Join us every other Wednesday for Men’s Bible Study! Led by Rev. John Williams. For January and February\, we’ll meet on Zoom (with an in-person option in the Sojourners Room to participate on Zoom together for those who can). You can request the Zoom link HERE.
URL:https://firstbaptistlawrence.com/event/mens-bible-study-6/
ATTACH;FMTTYPE=image/jpeg:https://firstbaptistlawrence.com/wp-content/uploads/2026/01/Mens-Bible-Study-2026_01-to-2026_03-1920x1080-2.jpg
END:VEVENT
END:VCALENDAR