BEGIN:VCALENDAR
VERSION:2.0
PRODID:-//First Baptist Church - ECPv6.15.20//NONSGML v1.0//EN
CALSCALE:GREGORIAN
METHOD:PUBLISH
X-ORIGINAL-URL:https://firstbaptistlawrence.com
X-WR-CALDESC:Events for First Baptist Church
REFRESH-INTERVAL;VALUE=DURATION:PT1H
X-Robots-Tag:noindex
X-PUBLISHED-TTL:PT1H
BEGIN:VTIMEZONE
TZID:America/Chicago
BEGIN:DAYLIGHT
TZOFFSETFROM:-0600
TZOFFSETTO:-0500
TZNAME:CDT
DTSTART:20230312T080000
END:DAYLIGHT
BEGIN:STANDARD
TZOFFSETFROM:-0500
TZOFFSETTO:-0600
TZNAME:CST
DTSTART:20231105T070000
END:STANDARD
BEGIN:DAYLIGHT
TZOFFSETFROM:-0600
TZOFFSETTO:-0500
TZNAME:CDT
DTSTART:20240310T080000
END:DAYLIGHT
BEGIN:STANDARD
TZOFFSETFROM:-0500
TZOFFSETTO:-0600
TZNAME:CST
DTSTART:20241103T070000
END:STANDARD
BEGIN:DAYLIGHT
TZOFFSETFROM:-0600
TZOFFSETTO:-0500
TZNAME:CDT
DTSTART:20250309T080000
END:DAYLIGHT
BEGIN:STANDARD
TZOFFSETFROM:-0500
TZOFFSETTO:-0600
TZNAME:CST
DTSTART:20251102T070000
END:STANDARD
END:VTIMEZONE
BEGIN:VEVENT
DTSTART;TZID=America/Chicago:20241208T080000
DTEND;TZID=America/Chicago:20241208T210000
DTSTAMP:20260420T171520
CREATED:20241207T062536Z
LAST-MODIFIED:20241207T070126Z
UID:10021693-1733644800-1733691600@firstbaptistlawrence.com
SUMMARY:Broken Christmas Lights Recycling Event
DESCRIPTION:Are you finding some broken or dead Christmas lights as you put up your decorations? Bring them to FBC and drop them in the recycle barrel on the front porch! FBC Earthworks Team Green will take them to the next community recycling event for you. Barrel(s) will be in place all day on Sunday\, 12/8 and Monday 12/9.
URL:https://firstbaptistlawrence.com/event/broken-christmas-lights-recycling-event/2024-12-08/
CATEGORIES:Earthworks,Team Green Electronics Waste Collection,Team Green
ATTACH;FMTTYPE=image/jpeg:https://firstbaptistlawrence.com/wp-content/uploads/2024/12/BROKEN-CHRISTMAS-LIGHTS-recycling.jpg
END:VEVENT
BEGIN:VEVENT
DTSTART;TZID=America/Chicago:20241209T080000
DTEND;TZID=America/Chicago:20241209T210000
DTSTAMP:20260420T171520
CREATED:20241207T062536Z
LAST-MODIFIED:20241207T070126Z
UID:10021694-1733731200-1733778000@firstbaptistlawrence.com
SUMMARY:Broken Christmas Lights Recycling Event
DESCRIPTION:Are you finding some broken or dead Christmas lights as you put up your decorations? Bring them to FBC and drop them in the recycle barrel on the front porch! FBC Earthworks Team Green will take them to the next community recycling event for you. Barrel(s) will be in place all day on Sunday\, 12/8 and Monday 12/9.
URL:https://firstbaptistlawrence.com/event/broken-christmas-lights-recycling-event/2024-12-09/
CATEGORIES:Earthworks,Team Green Electronics Waste Collection,Team Green
ATTACH;FMTTYPE=image/jpeg:https://firstbaptistlawrence.com/wp-content/uploads/2024/12/BROKEN-CHRISTMAS-LIGHTS-recycling.jpg
END:VEVENT
END:VCALENDAR