BEGIN:VCALENDAR
VERSION:2.0
PRODID:-//First Baptist Church - ECPv6.15.20//NONSGML v1.0//EN
CALSCALE:GREGORIAN
METHOD:PUBLISH
X-ORIGINAL-URL:https://firstbaptistlawrence.com
X-WR-CALDESC:Events for First Baptist Church
REFRESH-INTERVAL;VALUE=DURATION:PT1H
X-Robots-Tag:noindex
X-PUBLISHED-TTL:PT1H
BEGIN:VTIMEZONE
TZID:America/Chicago
BEGIN:DAYLIGHT
TZOFFSETFROM:-0600
TZOFFSETTO:-0500
TZNAME:CDT
DTSTART:20240310T080000
END:DAYLIGHT
BEGIN:STANDARD
TZOFFSETFROM:-0500
TZOFFSETTO:-0600
TZNAME:CST
DTSTART:20241103T070000
END:STANDARD
BEGIN:DAYLIGHT
TZOFFSETFROM:-0600
TZOFFSETTO:-0500
TZNAME:CDT
DTSTART:20250309T080000
END:DAYLIGHT
BEGIN:STANDARD
TZOFFSETFROM:-0500
TZOFFSETTO:-0600
TZNAME:CST
DTSTART:20251102T070000
END:STANDARD
BEGIN:DAYLIGHT
TZOFFSETFROM:-0600
TZOFFSETTO:-0500
TZNAME:CDT
DTSTART:20260308T080000
END:DAYLIGHT
BEGIN:STANDARD
TZOFFSETFROM:-0500
TZOFFSETTO:-0600
TZNAME:CST
DTSTART:20261101T070000
END:STANDARD
END:VTIMEZONE
BEGIN:VEVENT
DTSTART;TZID=America/Chicago:20250326T170000
DTEND;TZID=America/Chicago:20250326T170100
DTSTAMP:20260425T231431
CREATED:20250326T013451Z
LAST-MODIFIED:20250326T013938Z
UID:10021987-1743008400-1743008460@firstbaptistlawrence.com
SUMMARY:Signup Deadline: Team Green Hazardous Waste Pickup
DESCRIPTION:Sign up by 3/26 at 5:00 p.m. to have Team Green come by your house to pick up your hazardous waste items on 3/27. Find more details and signup link on the Hazardous Waste Pickup page.
URL:https://firstbaptistlawrence.com/event/signup-deadline-team-green-hazardous-waste-pickup-dead-christmas-lights-too/
CATEGORIES:Earthworks,Team Green Hazardous Waste Collection,Team Green
ATTACH;FMTTYPE=image/jpeg:https://firstbaptistlawrence.com/wp-content/uploads/2024/09/Haz-Waste-Signup-Deadline-1920x1080-1.jpg
END:VEVENT
BEGIN:VEVENT
DTSTART;TZID=America/Chicago:20250327T090000
DTEND;TZID=America/Chicago:20250327T110000
DTSTAMP:20260425T231431
CREATED:20250326T013559Z
LAST-MODIFIED:20250326T014002Z
UID:10021988-1743066000-1743073200@firstbaptistlawrence.com
SUMMARY:Team Green Hazardous Waste Pickup
DESCRIPTION:If you signed up by 3/26 at 5:00 p.m.\, Team Green will come by your house to pick up your hazardous waste items this morning\, 3/27. More details and signup link here.
URL:https://firstbaptistlawrence.com/event/team-green-hazardous-waste-pickup-8/
CATEGORIES:Earthworks,Team Green Hazardous Waste Collection,Team Green
ATTACH;FMTTYPE=image/jpeg:https://firstbaptistlawrence.com/wp-content/uploads/2024/09/Haz-Waste-Pickup-1920x1080-1.jpg
END:VEVENT
END:VCALENDAR