BEGIN:VCALENDAR
VERSION:2.0
PRODID:-//First Baptist Church - ECPv6.15.20//NONSGML v1.0//EN
CALSCALE:GREGORIAN
METHOD:PUBLISH
X-WR-CALNAME:First Baptist Church
X-ORIGINAL-URL:https://firstbaptistlawrence.com
X-WR-CALDESC:Events for First Baptist Church
REFRESH-INTERVAL;VALUE=DURATION:PT1H
X-Robots-Tag:noindex
X-PUBLISHED-TTL:PT1H
BEGIN:VTIMEZONE
TZID:America/Chicago
BEGIN:DAYLIGHT
TZOFFSETFROM:-0600
TZOFFSETTO:-0500
TZNAME:CDT
DTSTART:20250309T080000
END:DAYLIGHT
BEGIN:STANDARD
TZOFFSETFROM:-0500
TZOFFSETTO:-0600
TZNAME:CST
DTSTART:20251102T070000
END:STANDARD
BEGIN:DAYLIGHT
TZOFFSETFROM:-0600
TZOFFSETTO:-0500
TZNAME:CDT
DTSTART:20260308T080000
END:DAYLIGHT
BEGIN:STANDARD
TZOFFSETFROM:-0500
TZOFFSETTO:-0600
TZNAME:CST
DTSTART:20261101T070000
END:STANDARD
BEGIN:DAYLIGHT
TZOFFSETFROM:-0600
TZOFFSETTO:-0500
TZNAME:CDT
DTSTART:20270314T080000
END:DAYLIGHT
BEGIN:STANDARD
TZOFFSETFROM:-0500
TZOFFSETTO:-0600
TZNAME:CST
DTSTART:20271107T070000
END:STANDARD
END:VTIMEZONE
BEGIN:VEVENT
DTSTART;TZID=America/Chicago:20260131T060000
DTEND;TZID=America/Chicago:20260131T170000
DTSTAMP:20260419T225619
CREATED:20260108T200158Z
LAST-MODIFIED:20260121T162741Z
UID:10022995-1769839200-1769878800@firstbaptistlawrence.com
SUMMARY:*CANCELED\, MAY BE RESCHEDULED* Earthworks Team Blue Trail Run at Clinton North Shore Trails
DESCRIPTION:We’ve had to cancel this run\, but keep an eye out for a possible rescheduling. \n\n\n\n(Time is approximate.) Join Team Blue for a winter run—long or short—on the Clinton North Shore Trails! A 26-mile (marathon) route is planned\, but there are numerous places where you can ramp on or ramp off if you prefer to run a shorter distance (even a much shorter distance!) Contact Bryan Miller\, or the church office\, if you’d like to participate!
URL:https://firstbaptistlawrence.com/event/earthworks-team-blue-trail-run-at-clinton-north-shore-trails/
CATEGORIES:Earthworks,Team Blue
ATTACH;FMTTYPE=image/jpeg:https://firstbaptistlawrence.com/wp-content/uploads/2026/01/2026-Team-Blue-Winter-Trail-Run.jpg
END:VEVENT
END:VCALENDAR