BEGIN:VCALENDAR
VERSION:2.0
PRODID:-//First Baptist Church - ECPv6.15.20//NONSGML v1.0//EN
CALSCALE:GREGORIAN
METHOD:PUBLISH
X-WR-CALNAME:First Baptist Church
X-ORIGINAL-URL:https://firstbaptistlawrence.com
X-WR-CALDESC:Events for First Baptist Church
REFRESH-INTERVAL;VALUE=DURATION:PT1H
X-Robots-Tag:noindex
X-PUBLISHED-TTL:PT1H
BEGIN:VTIMEZONE
TZID:America/Chicago
BEGIN:DAYLIGHT
TZOFFSETFROM:-0600
TZOFFSETTO:-0500
TZNAME:CDT
DTSTART:20230312T080000
END:DAYLIGHT
BEGIN:STANDARD
TZOFFSETFROM:-0500
TZOFFSETTO:-0600
TZNAME:CST
DTSTART:20231105T070000
END:STANDARD
BEGIN:DAYLIGHT
TZOFFSETFROM:-0600
TZOFFSETTO:-0500
TZNAME:CDT
DTSTART:20240310T080000
END:DAYLIGHT
BEGIN:STANDARD
TZOFFSETFROM:-0500
TZOFFSETTO:-0600
TZNAME:CST
DTSTART:20241103T070000
END:STANDARD
BEGIN:DAYLIGHT
TZOFFSETFROM:-0600
TZOFFSETTO:-0500
TZNAME:CDT
DTSTART:20250309T080000
END:DAYLIGHT
BEGIN:STANDARD
TZOFFSETFROM:-0500
TZOFFSETTO:-0600
TZNAME:CST
DTSTART:20251102T070000
END:STANDARD
END:VTIMEZONE
BEGIN:VEVENT
DTSTART;TZID=America/Chicago:20240425T191500
DTEND;TZID=America/Chicago:20240425T201500
DTSTAMP:20260423T220109
CREATED:20230810T195531Z
LAST-MODIFIED:20240314T052830Z
UID:10021252-1714072500-1714076100@firstbaptistlawrence.com
SUMMARY:Chancel Choir Rehearsal
DESCRIPTION:Chancel Choir is a group of mixed voices and ages\, from high school through “endlessly experienced”! We welcome voices of any experience level and encourage singers of any style of music to participate.
URL:https://firstbaptistlawrence.com/event/chancel-choir-rehearsal/2024-04-25/
LOCATION:First Baptist Church Lawrence\, 1330 Kasold Dr\, Lawrence\, KS\, 66049\, United States
GEO:38.9600713;-95.2774978
X-APPLE-STRUCTURED-LOCATION;VALUE=URI;X-ADDRESS=First Baptist Church Lawrence 1330 Kasold Dr Lawrence KS 66049 United States;X-APPLE-RADIUS=500;X-TITLE=1330 Kasold Dr:geo:-95.2774978,38.9600713
END:VEVENT
BEGIN:VEVENT
DTSTART;TZID=America/Chicago:20240425T090000
DTEND;TZID=America/Chicago:20240425T110000
DTSTAMP:20260423T220109
CREATED:20240418T185322Z
LAST-MODIFIED:20240418T185323Z
UID:10021455-1714035600-1714042800@firstbaptistlawrence.com
SUMMARY:Team Green Hazardous Waste Pickup
DESCRIPTION:If you signed up by 4/24 at 5:00 p.m.\, Team Green will come by your house to pick up your hazardous waste items this morning\, 4/25. More details and signup link here.
URL:https://firstbaptistlawrence.com/event/team-green-hazardous-waste-pickup/
CATEGORIES:Earthworks,Team Green Hazardous Waste Collection,Team Green
END:VEVENT
BEGIN:VEVENT
DTSTART;TZID=America/Chicago:20240424T170000
DTEND;TZID=America/Chicago:20240424T170100
DTSTAMP:20260423T220109
CREATED:20240418T184956Z
LAST-MODIFIED:20240418T185841Z
UID:10021454-1713978000-1713978060@firstbaptistlawrence.com
SUMMARY:Signup Deadline: Team Green Hazardous Waste Pickup
DESCRIPTION:Sign up by 4/24 at 5:00 p.m. to have Team Green come by your house to pick up your hazardous waste items. Find more details and signup link on the Hazardous Waste Pickup page.
URL:https://firstbaptistlawrence.com/event/signup-deadline-team-green-hazardous-waste-pickup/
CATEGORIES:Earthworks,Team Green Hazardous Waste Collection,Team Green
END:VEVENT
END:VCALENDAR