BEGIN:VCALENDAR
VERSION:2.0
PRODID:-//First Baptist Church - ECPv6.15.20//NONSGML v1.0//EN
CALSCALE:GREGORIAN
METHOD:PUBLISH
X-ORIGINAL-URL:https://firstbaptistlawrence.com
X-WR-CALDESC:Events for First Baptist Church
REFRESH-INTERVAL;VALUE=DURATION:PT1H
X-Robots-Tag:noindex
X-PUBLISHED-TTL:PT1H
BEGIN:VTIMEZONE
TZID:America/Chicago
BEGIN:DAYLIGHT
TZOFFSETFROM:-0600
TZOFFSETTO:-0500
TZNAME:CDT
DTSTART:20240310T080000
END:DAYLIGHT
BEGIN:STANDARD
TZOFFSETFROM:-0500
TZOFFSETTO:-0600
TZNAME:CST
DTSTART:20241103T070000
END:STANDARD
BEGIN:DAYLIGHT
TZOFFSETFROM:-0600
TZOFFSETTO:-0500
TZNAME:CDT
DTSTART:20250309T080000
END:DAYLIGHT
BEGIN:STANDARD
TZOFFSETFROM:-0500
TZOFFSETTO:-0600
TZNAME:CST
DTSTART:20251102T070000
END:STANDARD
BEGIN:DAYLIGHT
TZOFFSETFROM:-0600
TZOFFSETTO:-0500
TZNAME:CDT
DTSTART:20260308T080000
END:DAYLIGHT
BEGIN:STANDARD
TZOFFSETFROM:-0500
TZOFFSETTO:-0600
TZNAME:CST
DTSTART:20261101T070000
END:STANDARD
END:VTIMEZONE
BEGIN:VEVENT
DTSTART;TZID=America/Chicago:20250814T090000
DTEND;TZID=America/Chicago:20250814T110000
DTSTAMP:20260423T064133
CREATED:20250811T175721Z
LAST-MODIFIED:20250811T183057Z
UID:10022305-1755162000-1755169200@firstbaptistlawrence.com
SUMMARY:Team Green Hazardous Waste Pickup
DESCRIPTION:If you signed up by 8/13 at 5:00 p.m.\, Team Green will come by your house to pick up your hazardous waste items this morning\, 8/14. More details and signup link here.
URL:https://firstbaptistlawrence.com/event/team-green-hazardous-waste-pickup-10/
CATEGORIES:Earthworks,Team Green Hazardous Waste Collection
ATTACH;FMTTYPE=image/jpeg:https://firstbaptistlawrence.com/wp-content/uploads/2024/09/Haz-Waste-Pickup-1920x1080-1.jpg
END:VEVENT
BEGIN:VEVENT
DTSTART;TZID=America/Chicago:20250814T191500
DTEND;TZID=America/Chicago:20250814T201500
DTSTAMP:20260423T064134
CREATED:20250731T181839Z
LAST-MODIFIED:20250731T182341Z
UID:10022300-1755198900-1755202500@firstbaptistlawrence.com
SUMMARY:Chancel Choir Resumes Rehearsals
DESCRIPTION:Are you thinking\, “Is Chancel Choir for me?” Let us answer you with a couple more questions. Do you sometimes sing in the shower? Do your pets and significant others not always cover their ears when you “make a joyful noise”? Yes? You TOTALLY belong in chancel choir! Your mission\, should you choose to accept it\, is to show up on Thursday nights at 7:15 p.m. for rehearsal\, enjoy the company of like-minded and enthusiastic musicians and near-musicians\, and then show up again on Sunday mornings\, usually for the late service\, to perform that week’s anthem. Director: Mark Robinson.  Contact Mark with questions.
URL:https://firstbaptistlawrence.com/event/chancel-choir-resumes-rehearsals/
ATTACH;FMTTYPE=image/jpeg:https://firstbaptistlawrence.com/wp-content/uploads/2025/07/Choir-Rehearsal-Resumes-PP.jpg
END:VEVENT
BEGIN:VEVENT
DTSTART;TZID=America/Chicago:20250817T083800
DTEND;TZID=America/Chicago:20250817T093000
DTSTAMP:20260423T064134
CREATED:20241106T233946Z
LAST-MODIFIED:20241107T000416Z
UID:10021658-1755419880-1755423000@firstbaptistlawrence.com
SUMMARY:838 Worship Service
DESCRIPTION:Join us each Sunday at 8:38 a.m. in person in the Judson Room (enter front double doors and walk straight ahead until you find people)! This service is less formal and more interactive in nature\, and is not livestreamed. (Join us at 11:00 a.m. for a livestreamed service!) It’s about 45 minutes long.
URL:https://firstbaptistlawrence.com/event/838-worship-service-2/2025-08-17/
END:VEVENT
BEGIN:VEVENT
DTSTART;TZID=America/Chicago:20250817T093000
DTEND;TZID=America/Chicago:20250817T103000
DTSTAMP:20260423T064134
CREATED:20250418T174322Z
LAST-MODIFIED:20250418T174324Z
UID:10022114-1755423000-1755426600@firstbaptistlawrence.com
SUMMARY:Sunday School
DESCRIPTION:Join us for a children’s\, youth\, or adult Sunday school class! More info here: \n\n\n\nChildren \n\n\n\nYouth \n\n\n\nAdults
URL:https://firstbaptistlawrence.com/event/sunday-school-3/2025-08-17/
END:VEVENT
BEGIN:VEVENT
DTSTART;TZID=America/Chicago:20250817T093000
DTEND;TZID=America/Chicago:20250817T103000
DTSTAMP:20260423T064134
CREATED:20250726T154049Z
LAST-MODIFIED:20250726T165643Z
UID:10022298-1755423000-1755426600@firstbaptistlawrence.com
SUMMARY:Kickoff Sunday
DESCRIPTION:We’re celebrating the start of a new school year with Kickoff Sunday\, including a backpack/computer bag blessing for students of all ages\, teachers\, and professors!
URL:https://firstbaptistlawrence.com/event/kickoff-sunday/
ATTACH;FMTTYPE=image/jpeg:https://firstbaptistlawrence.com/wp-content/uploads/2025/07/2025_08_17-Kickoff-Sunday-PP.jpg
END:VEVENT
BEGIN:VEVENT
DTSTART;TZID=America/Chicago:20250817T103000
DTEND;TZID=America/Chicago:20250817T110000
DTSTAMP:20260423T064134
CREATED:20210809T215807Z
LAST-MODIFIED:20230328T223510Z
UID:10021037-1755426600-1755428400@firstbaptistlawrence.com
SUMMARY:Fellowship Time & Children's Explorations
DESCRIPTION:Between Sunday school and the 11:00 a.m. worship service: Coffee and fellowship for adults and youth\, and time with Pastor Cristina for the kids up through 5th grade!
URL:https://firstbaptistlawrence.com/event/fellowship-time-childrens-music-time-2023-04-02/2025-08-17/
LOCATION:First Baptist Church Lawrence\, 1330 Kasold Dr\, Lawrence\, KS\, 66049\, United States
GEO:38.9600713;-95.2774978
X-APPLE-STRUCTURED-LOCATION;VALUE=URI;X-ADDRESS=First Baptist Church Lawrence 1330 Kasold Dr Lawrence KS 66049 United States;X-APPLE-RADIUS=500;X-TITLE=1330 Kasold Dr:geo:-95.2774978,38.9600713
END:VEVENT
BEGIN:VEVENT
DTSTART;TZID=America/Chicago:20250817T110000
DTEND;TZID=America/Chicago:20250817T120000
DTSTAMP:20260423T064134
CREATED:20250418T175658Z
LAST-MODIFIED:20250418T175700Z
UID:10022224-1755428400-1755432000@firstbaptistlawrence.com
SUMMARY:In-person & Virtual Worship
DESCRIPTION:Join us for in-person worship or virtually for the livestream on YouTube or Facebook!
URL:https://firstbaptistlawrence.com/event/in-person-virtual-worship-3/2025-08-17/
CATEGORIES:Worship
END:VEVENT
BEGIN:VEVENT
DTSTART;TZID=America/Chicago:20250817T121500
DTEND;TZID=America/Chicago:20250817T131500
DTSTAMP:20260423T064134
CREATED:20250814T122941Z
LAST-MODIFIED:20250814T124241Z
UID:10022306-1755432900-1755436500@firstbaptistlawrence.com
SUMMARY:August Fellowship Lunch
DESCRIPTION:Join us immediately following the 11:00 a.m. worship service for a fellowship lunch! (Note: the 2-way sermon discussion group will move to 1:00p due to the lunch.)
URL:https://firstbaptistlawrence.com/event/august-fellowship-lunch/
ATTACH;FMTTYPE=image/jpeg:https://firstbaptistlawrence.com/wp-content/uploads/2025/08/August-Fellowship-Lunch-1920x1080px.jpg
END:VEVENT
BEGIN:VEVENT
DTSTART;TZID=America/Chicago:20250817T130000
DTEND;TZID=America/Chicago:20250817T140000
DTSTAMP:20260423T064134
CREATED:20250814T124053Z
LAST-MODIFIED:20250814T124057Z
UID:10022307-1755435600-1755439200@firstbaptistlawrence.com
SUMMARY:Note Time Change: 2-way Sermon Discussion Group
DESCRIPTION:The Two-Way Sermon Discussion is just that—an opportunity to discuss the past Sunday’s sermon with Pastor Matt. Pastor Matt provides his sermon manuscript for all to peruse as we talk about the parts that are most salient and meaningful for each of us. The last fifteen minutes is spent reading and discussing the scripture for the next Sunday’s sermon. Often\, he uses Lectio Divina reading and questioning methods to facilitate this discussion. Open to all adults. \n\n\n\nThe 2-way Discussion Group meets in person in the Sojourners Room and virtually on Zoom on Sundays following worship at 12:30 p.m. The meeting time is occasionally rescheduled or cancelled to accommodate other after-church events such as fellowship meals and quarterly business meetings. \n\n\n\nClick the button below to get the Zoom link to attend! \n\n\n\nGet Zoom Link
URL:https://firstbaptistlawrence.com/event/note-time-change-2-way-sermon-discussion-group/
END:VEVENT
BEGIN:VEVENT
DTSTART;TZID=America/Chicago:20250823T130000
DTEND;TZID=America/Chicago:20250823T140000
DTSTAMP:20260423T064134
CREATED:20250702T185717Z
LAST-MODIFIED:20250925T011558Z
UID:10021687-1755954000-1755957600@firstbaptistlawrence.com
SUMMARY:Harvesters Mobile Food Pantry
DESCRIPTION:The Harvesters Mobile Food Pantry comes to FBC on the 4th Saturday of each month\, from 1:00 to 2:00 p.m.  (EXCEPTION: there may be alternate distribution dates during the months of November and December when the 4th Saturday falls on Thanksgiving weekend and Christmas weekend.)  \n\n\n\nThe mobile food pantry is a drive-through distribution in the FBC parking lot. \n\n\n\n\nDistribution will be limited to no more than 3 households per vehicle. \n\n\n\nGuests\, please clear as much space as possible in your trunk or cargo area. We would like to avoid loading inside the seats of the vehicles to better social distance. To the extent possible\, limit the number of passengers with you. (We do understand some families must bring their children along.) \n\n\n\nBlessings to you all from FBC and our mobile food pantry partners.\n\n\n\n\n\n\n\n\nCatholic Charities of Northeast Kansas\, Trinity Interfaith Food Pantry\, Pelathe District Boy Scouts\, and First Baptist Church are partners in carrying out this distribution. \n\n\n\nYou can learn more about Harvesters on their website here. You can also visit this page on their site\, where you can type your zip code into a food assistance service locator to see organizations in your area where you may receive assistance. There\, you can click to specify the service type you seek: Pantry\, Mobile Distribution\, or Onsite Meals.
URL:https://firstbaptistlawrence.com/event/harvesters-mobile-food-pantry-2/2025-08-23/
ATTACH;FMTTYPE=image/jpeg:https://firstbaptistlawrence.com/wp-content/uploads/2019/10/Mobile-Food-Pantry-PP-Slide-no-date-.jpg
END:VEVENT
BEGIN:VEVENT
DTSTART;TZID=America/Chicago:20250824T083800
DTEND;TZID=America/Chicago:20250824T093000
DTSTAMP:20260423T064134
CREATED:20241106T233946Z
LAST-MODIFIED:20241107T000416Z
UID:10021659-1756024680-1756027800@firstbaptistlawrence.com
SUMMARY:838 Worship Service
DESCRIPTION:Join us each Sunday at 8:38 a.m. in person in the Judson Room (enter front double doors and walk straight ahead until you find people)! This service is less formal and more interactive in nature\, and is not livestreamed. (Join us at 11:00 a.m. for a livestreamed service!) It’s about 45 minutes long.
URL:https://firstbaptistlawrence.com/event/838-worship-service-2/2025-08-24/
END:VEVENT
BEGIN:VEVENT
DTSTART;TZID=America/Chicago:20250824T083800
DTEND;TZID=America/Chicago:20250824T093000
DTSTAMP:20260423T064134
CREATED:20250822T211450Z
LAST-MODIFIED:20250822T211453Z
UID:10022356-1756024680-1756027800@firstbaptistlawrence.com
SUMMARY:838a Worship Service Outside in Courtyard
DESCRIPTION:The weather forecast looks great (cooler! Less humid!) so the 838a service is taking it outside—we’re going to worship in the courtyard by the gym! It’s a great way to worship during the Season of Creation. (You’re still welcome to stop by the Holy Grounds coffee station in the narthex for your morning cuppa on the way to the courtyard.) Hope to see you there!
URL:https://firstbaptistlawrence.com/event/838a-worship-service-outside-in-courtyard/
ATTACH;FMTTYPE=image/jpeg:https://firstbaptistlawrence.com/wp-content/uploads/2025/08/2025_08_24-Outside-Worship-838-1920x1080px-1.jpg
END:VEVENT
BEGIN:VEVENT
DTSTART;TZID=America/Chicago:20250824T093000
DTEND;TZID=America/Chicago:20250824T103000
DTSTAMP:20260423T064134
CREATED:20250418T174322Z
LAST-MODIFIED:20250418T174324Z
UID:10022115-1756027800-1756031400@firstbaptistlawrence.com
SUMMARY:Sunday School
DESCRIPTION:Join us for a children’s\, youth\, or adult Sunday school class! More info here: \n\n\n\nChildren \n\n\n\nYouth \n\n\n\nAdults
URL:https://firstbaptistlawrence.com/event/sunday-school-3/2025-08-24/
END:VEVENT
BEGIN:VEVENT
DTSTART;TZID=America/Chicago:20250824T103000
DTEND;TZID=America/Chicago:20250824T110000
DTSTAMP:20260423T064134
CREATED:20210809T215807Z
LAST-MODIFIED:20230328T223510Z
UID:10021038-1756031400-1756033200@firstbaptistlawrence.com
SUMMARY:Fellowship Time & Children's Explorations
DESCRIPTION:Between Sunday school and the 11:00 a.m. worship service: Coffee and fellowship for adults and youth\, and time with Pastor Cristina for the kids up through 5th grade!
URL:https://firstbaptistlawrence.com/event/fellowship-time-childrens-music-time-2023-04-02/2025-08-24/
LOCATION:First Baptist Church Lawrence\, 1330 Kasold Dr\, Lawrence\, KS\, 66049\, United States
GEO:38.9600713;-95.2774978
X-APPLE-STRUCTURED-LOCATION;VALUE=URI;X-ADDRESS=First Baptist Church Lawrence 1330 Kasold Dr Lawrence KS 66049 United States;X-APPLE-RADIUS=500;X-TITLE=1330 Kasold Dr:geo:-95.2774978,38.9600713
END:VEVENT
BEGIN:VEVENT
DTSTART;TZID=America/Chicago:20250824T110000
DTEND;TZID=America/Chicago:20250824T120000
DTSTAMP:20260423T064134
CREATED:20250418T175658Z
LAST-MODIFIED:20250418T175700Z
UID:10022225-1756033200-1756036800@firstbaptistlawrence.com
SUMMARY:In-person & Virtual Worship
DESCRIPTION:Join us for in-person worship or virtually for the livestream on YouTube or Facebook!
URL:https://firstbaptistlawrence.com/event/in-person-virtual-worship-3/2025-08-24/
CATEGORIES:Worship
END:VEVENT
BEGIN:VEVENT
DTSTART;TZID=America/Chicago:20250824T123000
DTEND;TZID=America/Chicago:20250824T133000
DTSTAMP:20260423T064134
CREATED:20241212T205607Z
LAST-MODIFIED:20241212T205714Z
UID:10021736-1756038600-1756042200@firstbaptistlawrence.com
SUMMARY:2-Way Sermon Discussion Group
DESCRIPTION:The Two-Way Sermon Discussion is just that—an opportunity to discuss the past Sunday’s sermon with Pastor Matt. Pastor Matt provides his sermon manuscript for all to peruse as we talk about the parts that are most salient and meaningful for each of us. The last fifteen minutes is spent reading and discussing the scripture for the next Sunday’s sermon. Often\, he uses Lectio Divina reading and questioning methods to facilitate this discussion. Open to all adults. \n\n\n\nThe 2-way Discussion Group meets in person in the Sojourners Room and virtually on Zoom on Sundays following worship at 12:30 p.m. The meeting time is occasionally rescheduled or cancelled to accommodate other after-church events such as fellowship meals and quarterly business meetings. \n\n\n\nClick the button below to get the Zoom link to attend! \n\n\n\n\nGet Zoom Link
URL:https://firstbaptistlawrence.com/event/2-way-sermon-discussion-group-2/2025-08-24/
END:VEVENT
BEGIN:VEVENT
DTSTART;TZID=America/Chicago:20250824T190000
DTEND;TZID=America/Chicago:20250824T200000
DTSTAMP:20260423T064134
CREATED:20250725T211438Z
LAST-MODIFIED:20250824T203916Z
UID:10022295-1756062000-1756065600@firstbaptistlawrence.com
SUMMARY:Adventures in Creation with Lynne Beatty
DESCRIPTION:Journey through marvelous habitats of creatures from the tropics through the polar realm.  Engage your senses!  Bring an empty bottle or mug to enjoy a taste from another biome. In person in the Sojourners room and virtually on Zoom. Request Zoom link here to attend virtually.
URL:https://firstbaptistlawrence.com/event/adventures-in-creation-with-lynne-beatty/
CATEGORIES:Earthworks,Team Purple,Team Blue
ATTACH;FMTTYPE=image/jpeg:https://firstbaptistlawrence.com/wp-content/uploads/2025/07/Team-Blue-Adventures-in-Creation-with-Lynne-2025_08_24-PP.jpg
END:VEVENT
BEGIN:VEVENT
DTSTART;TZID=America/Chicago:20250827T183000
DTEND;TZID=America/Chicago:20250827T193000
DTSTAMP:20260423T064134
CREATED:20250814T152023Z
LAST-MODIFIED:20250814T160720Z
UID:10022351-1756319400-1756323000@firstbaptistlawrence.com
SUMMARY:Earthworks Team Purple Book Study: The Serviceberry
DESCRIPTION:Join Team Purple for a discussion of Robin Wall Kimmerer’s new book\, The Serviceberry: Abundance and Reciprocity in the Natural World! We’ll meet on Wednesday\, August 27 at 6:30 p.m.\, in person in the Sojourners Room and also on Zoom. Get more info here. \n\n\n\n\nGet zoom link
URL:https://firstbaptistlawrence.com/event/team-purple-book-study-the-serviceberry/
ATTACH;FMTTYPE=image/jpeg:https://firstbaptistlawrence.com/wp-content/uploads/2025/08/Team-Purple-The-Serviceberry-2025_08_27.jpg
END:VEVENT
BEGIN:VEVENT
DTSTART;TZID=America/Chicago:20250831T083800
DTEND;TZID=America/Chicago:20250831T093000
DTSTAMP:20260423T064134
CREATED:20241106T233946Z
LAST-MODIFIED:20241107T000416Z
UID:10021660-1756629480-1756632600@firstbaptistlawrence.com
SUMMARY:838 Worship Service
DESCRIPTION:Join us each Sunday at 8:38 a.m. in person in the Judson Room (enter front double doors and walk straight ahead until you find people)! This service is less formal and more interactive in nature\, and is not livestreamed. (Join us at 11:00 a.m. for a livestreamed service!) It’s about 45 minutes long.
URL:https://firstbaptistlawrence.com/event/838-worship-service-2/2025-08-31/
END:VEVENT
BEGIN:VEVENT
DTSTART;TZID=America/Chicago:20250831T093000
DTEND;TZID=America/Chicago:20250831T103000
DTSTAMP:20260423T064134
CREATED:20250418T174322Z
LAST-MODIFIED:20250418T174324Z
UID:10022116-1756632600-1756636200@firstbaptistlawrence.com
SUMMARY:Sunday School
DESCRIPTION:Join us for a children’s\, youth\, or adult Sunday school class! More info here: \n\n\n\nChildren \n\n\n\nYouth \n\n\n\nAdults
URL:https://firstbaptistlawrence.com/event/sunday-school-3/2025-08-31/
END:VEVENT
BEGIN:VEVENT
DTSTART;TZID=America/Chicago:20250831T103000
DTEND;TZID=America/Chicago:20250831T110000
DTSTAMP:20260423T064134
CREATED:20210809T215807Z
LAST-MODIFIED:20230328T223510Z
UID:10021039-1756636200-1756638000@firstbaptistlawrence.com
SUMMARY:Fellowship Time & Children's Explorations
DESCRIPTION:Between Sunday school and the 11:00 a.m. worship service: Coffee and fellowship for adults and youth\, and time with Pastor Cristina for the kids up through 5th grade!
URL:https://firstbaptistlawrence.com/event/fellowship-time-childrens-music-time-2023-04-02/2025-08-31/
LOCATION:First Baptist Church Lawrence\, 1330 Kasold Dr\, Lawrence\, KS\, 66049\, United States
GEO:38.9600713;-95.2774978
X-APPLE-STRUCTURED-LOCATION;VALUE=URI;X-ADDRESS=First Baptist Church Lawrence 1330 Kasold Dr Lawrence KS 66049 United States;X-APPLE-RADIUS=500;X-TITLE=1330 Kasold Dr:geo:-95.2774978,38.9600713
END:VEVENT
BEGIN:VEVENT
DTSTART;TZID=America/Chicago:20250831T110000
DTEND;TZID=America/Chicago:20250831T120000
DTSTAMP:20260423T064134
CREATED:20250418T175658Z
LAST-MODIFIED:20250418T175700Z
UID:10022226-1756638000-1756641600@firstbaptistlawrence.com
SUMMARY:In-person & Virtual Worship
DESCRIPTION:Join us for in-person worship or virtually for the livestream on YouTube or Facebook!
URL:https://firstbaptistlawrence.com/event/in-person-virtual-worship-3/2025-08-31/
CATEGORIES:Worship
END:VEVENT
BEGIN:VEVENT
DTSTART;TZID=America/Chicago:20250831T123000
DTEND;TZID=America/Chicago:20250831T133000
DTSTAMP:20260423T064134
CREATED:20241212T205607Z
LAST-MODIFIED:20241212T205714Z
UID:10021737-1756643400-1756647000@firstbaptistlawrence.com
SUMMARY:2-Way Sermon Discussion Group
DESCRIPTION:The Two-Way Sermon Discussion is just that—an opportunity to discuss the past Sunday’s sermon with Pastor Matt. Pastor Matt provides his sermon manuscript for all to peruse as we talk about the parts that are most salient and meaningful for each of us. The last fifteen minutes is spent reading and discussing the scripture for the next Sunday’s sermon. Often\, he uses Lectio Divina reading and questioning methods to facilitate this discussion. Open to all adults. \n\n\n\nThe 2-way Discussion Group meets in person in the Sojourners Room and virtually on Zoom on Sundays following worship at 12:30 p.m. The meeting time is occasionally rescheduled or cancelled to accommodate other after-church events such as fellowship meals and quarterly business meetings. \n\n\n\nClick the button below to get the Zoom link to attend! \n\n\n\n\nGet Zoom Link
URL:https://firstbaptistlawrence.com/event/2-way-sermon-discussion-group-2/2025-08-31/
END:VEVENT
BEGIN:VEVENT
DTSTART;TZID=America/Chicago:20250901T090000
DTEND;TZID=America/Chicago:20250901T140000
DTSTAMP:20260423T064134
CREATED:20250725T214513Z
LAST-MODIFIED:20250901T133240Z
UID:10022296-1756717200-1756735200@firstbaptistlawrence.com
SUMMARY:***CANCELED*** Earthworks Team Blue Landon Trail Bike Ride
DESCRIPTION:The ride is cancelled due to increasing thunderstorm chances by 11:00 a.m. Sorry for any inconvenience! \n\n\n\nLabor away the day on your bike!  Let’s head out to the Landon Rail Trail near Berryton for a 7–14 mile bike ride.  Helmet is required.  Bring water and lunch.  We’ll leave from the church at 9 am and caravan to a rural area near Berryton on Green Road or to Berryton depending on trail conditions.  From Green Road\, the ride to the northwest will be an out-and-back of 7 miles for those wanting a shorter distance and then a ride to the southeast as another out-and-back of 7 more miles for those wanting to stretch out their legs a bit more.  We plan to return by 2 pm.  Contact Lynne for more information.
URL:https://firstbaptistlawrence.com/event/earthworks-team-blue-landon-trail-bike-ride/
CATEGORIES:Earthworks,Team Blue
ATTACH;FMTTYPE=image/jpeg:https://firstbaptistlawrence.com/wp-content/uploads/2025/07/Landon-Trail-Bike-Ride-2025_09_01.jpg
END:VEVENT
BEGIN:VEVENT
DTSTART;TZID=America/Chicago:20250906T093000
DTEND;TZID=America/Chicago:20250906T103000
DTSTAMP:20260423T064134
CREATED:20250814T161137Z
LAST-MODIFIED:20250814T161141Z
UID:10022352-1757151000-1757154600@firstbaptistlawrence.com
SUMMARY:Welcome Coffee
DESCRIPTION:Are you new to FBC? Visiting? Recently Joined? (Or do you just still feel new?) You’re invited to a welcome coffee\, where you can learn more about FBC\, ask questions\, and meet a few people\, plus enjoy some coffee and sweet breakfast-y treats!
URL:https://firstbaptistlawrence.com/event/welcome-coffee-5/
ATTACH;FMTTYPE=image/jpeg:https://firstbaptistlawrence.com/wp-content/uploads/2025/08/Welcome-Coffee-2025_09_06-1920x1080p.jpg
END:VEVENT
BEGIN:VEVENT
DTSTART;TZID=America/Chicago:20250907T083800
DTEND;TZID=America/Chicago:20250907T093000
DTSTAMP:20260423T064134
CREATED:20250905T211115Z
LAST-MODIFIED:20250905T212913Z
UID:10022358-1757234280-1757237400@firstbaptistlawrence.com
SUMMARY:8:38 & 11:00a Worship Services with FBC's Nicaragua Team
DESCRIPTION:This morning\, during both worship services\, FBC’s Nicaragua team\, who traveled to Nicaragua to work with AMOS Health & Hope back in June\, will share briefly as part of worship about their time there. They will also lead in worship at the 11:00 one. Then\, right after 11:00 worship at around 12:00p\, we’ll have a fellowship lunch (a fundraiser)\, where a slideshow of trip photos will run while folks are eating. The team will talk in more detail about the trip and answer any questions you may have. Hope you can join us! \n\n\n\nMore about 8:38 a.m. worship as it usually happens: Join us each Sunday at 8:38 a.m. in person in the Judson Room (enter front double doors and walk straight ahead until you find people)! This service is less formal and more interactive in nature\, and is not livestreamed. (Join us at 11:00 a.m. for a livestreamed service!) It’s about 45 minutes long.
URL:https://firstbaptistlawrence.com/event/838-worship-service-with-fbcs-nicaragua-team/
ATTACH;FMTTYPE=image/jpeg:https://firstbaptistlawrence.com/wp-content/uploads/2025/09/2025_09_07-Nicaragua-Team-Sunday-PP.jpg
END:VEVENT
BEGIN:VEVENT
DTSTART;TZID=America/Chicago:20250907T093000
DTEND;TZID=America/Chicago:20250907T103000
DTSTAMP:20260423T064134
CREATED:20250418T174322Z
LAST-MODIFIED:20250418T174324Z
UID:10022117-1757237400-1757241000@firstbaptistlawrence.com
SUMMARY:Sunday School
DESCRIPTION:Join us for a children’s\, youth\, or adult Sunday school class! More info here: \n\n\n\nChildren \n\n\n\nYouth \n\n\n\nAdults
URL:https://firstbaptistlawrence.com/event/sunday-school-3/2025-09-07/
END:VEVENT
BEGIN:VEVENT
DTSTART;TZID=America/Chicago:20250907T103000
DTEND;TZID=America/Chicago:20250907T110000
DTSTAMP:20260423T064134
CREATED:20210809T215807Z
LAST-MODIFIED:20230328T223510Z
UID:10021040-1757241000-1757242800@firstbaptistlawrence.com
SUMMARY:Fellowship Time & Children's Explorations
DESCRIPTION:Between Sunday school and the 11:00 a.m. worship service: Coffee and fellowship for adults and youth\, and time with Pastor Cristina for the kids up through 5th grade!
URL:https://firstbaptistlawrence.com/event/fellowship-time-childrens-music-time-2023-04-02/2025-09-07/
LOCATION:First Baptist Church Lawrence\, 1330 Kasold Dr\, Lawrence\, KS\, 66049\, United States
GEO:38.9600713;-95.2774978
X-APPLE-STRUCTURED-LOCATION;VALUE=URI;X-ADDRESS=First Baptist Church Lawrence 1330 Kasold Dr Lawrence KS 66049 United States;X-APPLE-RADIUS=500;X-TITLE=1330 Kasold Dr:geo:-95.2774978,38.9600713
END:VEVENT
BEGIN:VEVENT
DTSTART;TZID=America/Chicago:20250907T110000
DTEND;TZID=America/Chicago:20250907T120000
DTSTAMP:20260423T064134
CREATED:20250905T210905Z
LAST-MODIFIED:20250905T210907Z
UID:10022359-1757242800-1757246400@firstbaptistlawrence.com
SUMMARY:In-person & Virtual Worship with FBC's Nicaragua Team
DESCRIPTION:This morning\, FBC’s Nicaragua team\, who traveled to Nicaragua to work with AMOS Health & Hope back in June\, will share briefly as part of worship about their time there during both the 838a and 11:00a services and lead in worship at the 11:00 one. Then\, right after 11:00 worship at around 12:00p\, we’ll have a fellowship lunch (a fundraiser)\, where a slideshow of trip photos will run while folks are eating. The team will talk in more detail about the trip and answer any questions you may have. Hope you can join us! \n\n\n\nJoin us for in-person worship or virtually for the livestream on YouTube or Facebook!
URL:https://firstbaptistlawrence.com/event/in-person-virtual-worship-with-fbcs-nicaragua-team/
CATEGORIES:Worship
ATTACH;FMTTYPE=image/jpeg:https://firstbaptistlawrence.com/wp-content/uploads/2025/09/2025_09_07-Nicaragua-Team-Sunday-PP.jpg
END:VEVENT
BEGIN:VEVENT
DTSTART;TZID=America/Chicago:20250907T120000
DTEND;TZID=America/Chicago:20250907T140000
DTSTAMP:20260423T064134
CREATED:20250905T211821Z
LAST-MODIFIED:20250905T211824Z
UID:10022360-1757246400-1757253600@firstbaptistlawrence.com
SUMMARY:Fellowship Lunch & Presentation by FBC's Team Nicaragua
DESCRIPTION:Right after 11:00 worship at around 12:00p\, we’ll have a fellowship lunch (a fundraiser)\, and the Nicaragua Team\, who traveled to work with AMOS Health & Hope back in June\, will share more about their trip! A slideshow of trip photos will run while folks are eating. Then\, the team will talk in more detail about the trip and answer any questions you may have. Hope you can join us! \n\n\n\nThe team will also have shared briefly as part of worship about their time there during both the 838a and 11:00a services and will have lead in worship at the 11:00 one today.
URL:https://firstbaptistlawrence.com/event/fellowship-lunch-presentation-by-fbcs-team-nicaragua/
ATTACH;FMTTYPE=image/jpeg:https://firstbaptistlawrence.com/wp-content/uploads/2025/09/2025_09_07-Nicaragua-Team-Sunday-PP.jpg
END:VEVENT
END:VCALENDAR