BEGIN:VCALENDAR
VERSION:2.0
PRODID:-//First Baptist Church - ECPv6.15.20//NONSGML v1.0//EN
CALSCALE:GREGORIAN
METHOD:PUBLISH
X-WR-CALNAME:First Baptist Church
X-ORIGINAL-URL:https://firstbaptistlawrence.com
X-WR-CALDESC:Events for First Baptist Church
REFRESH-INTERVAL;VALUE=DURATION:PT1H
X-Robots-Tag:noindex
X-PUBLISHED-TTL:PT1H
BEGIN:VTIMEZONE
TZID:America/Chicago
BEGIN:DAYLIGHT
TZOFFSETFROM:-0600
TZOFFSETTO:-0500
TZNAME:CDT
DTSTART:20240310T080000
END:DAYLIGHT
BEGIN:STANDARD
TZOFFSETFROM:-0500
TZOFFSETTO:-0600
TZNAME:CST
DTSTART:20241103T070000
END:STANDARD
BEGIN:DAYLIGHT
TZOFFSETFROM:-0600
TZOFFSETTO:-0500
TZNAME:CDT
DTSTART:20250309T080000
END:DAYLIGHT
BEGIN:STANDARD
TZOFFSETFROM:-0500
TZOFFSETTO:-0600
TZNAME:CST
DTSTART:20251102T070000
END:STANDARD
BEGIN:DAYLIGHT
TZOFFSETFROM:-0600
TZOFFSETTO:-0500
TZNAME:CDT
DTSTART:20260308T080000
END:DAYLIGHT
BEGIN:STANDARD
TZOFFSETFROM:-0500
TZOFFSETTO:-0600
TZNAME:CST
DTSTART:20261101T070000
END:STANDARD
END:VTIMEZONE
BEGIN:VEVENT
DTSTART;TZID=America/Chicago:20250629T093000
DTEND;TZID=America/Chicago:20250629T103000
DTSTAMP:20260425T081324
CREATED:20250418T174322Z
LAST-MODIFIED:20250418T174324Z
UID:10022107-1751189400-1751193000@firstbaptistlawrence.com
SUMMARY:Sunday School
DESCRIPTION:Join us for a children’s\, youth\, or adult Sunday school class! More info here: \n\n\n\nChildren \n\n\n\nYouth \n\n\n\nAdults
URL:https://firstbaptistlawrence.com/event/sunday-school-3/2025-06-29/
END:VEVENT
BEGIN:VEVENT
DTSTART;TZID=America/Chicago:20250629T103000
DTEND;TZID=America/Chicago:20250629T110000
DTSTAMP:20260425T081324
CREATED:20210809T215807Z
LAST-MODIFIED:20230328T223510Z
UID:10021030-1751193000-1751194800@firstbaptistlawrence.com
SUMMARY:Fellowship Time & Children's Explorations
DESCRIPTION:Between Sunday school and the 11:00 a.m. worship service: Coffee and fellowship for adults and youth\, and time with Pastor Cristina for the kids up through 5th grade!
URL:https://firstbaptistlawrence.com/event/fellowship-time-childrens-music-time-2023-04-02/2025-06-29/
LOCATION:First Baptist Church Lawrence\, 1330 Kasold Dr\, Lawrence\, KS\, 66049\, United States
GEO:38.9600713;-95.2774978
X-APPLE-STRUCTURED-LOCATION;VALUE=URI;X-ADDRESS=First Baptist Church Lawrence 1330 Kasold Dr Lawrence KS 66049 United States;X-APPLE-RADIUS=500;X-TITLE=1330 Kasold Dr:geo:-95.2774978,38.9600713
END:VEVENT
BEGIN:VEVENT
DTSTART;TZID=America/Chicago:20250629T110000
DTEND;TZID=America/Chicago:20250629T120000
DTSTAMP:20260425T081324
CREATED:20250418T175658Z
LAST-MODIFIED:20250418T175700Z
UID:10022217-1751194800-1751198400@firstbaptistlawrence.com
SUMMARY:In-person & Virtual Worship
DESCRIPTION:Join us for in-person worship or virtually for the livestream on YouTube or Facebook!
URL:https://firstbaptistlawrence.com/event/in-person-virtual-worship-3/2025-06-29/
CATEGORIES:Worship
END:VEVENT
BEGIN:VEVENT
DTSTART;TZID=America/Chicago:20250629T123000
DTEND;TZID=America/Chicago:20250629T133000
DTSTAMP:20260425T081324
CREATED:20241212T205607Z
LAST-MODIFIED:20241212T205714Z
UID:10021728-1751200200-1751203800@firstbaptistlawrence.com
SUMMARY:2-Way Sermon Discussion Group
DESCRIPTION:The Two-Way Sermon Discussion is just that—an opportunity to discuss the past Sunday’s sermon with Pastor Matt. Pastor Matt provides his sermon manuscript for all to peruse as we talk about the parts that are most salient and meaningful for each of us. The last fifteen minutes is spent reading and discussing the scripture for the next Sunday’s sermon. Often\, he uses Lectio Divina reading and questioning methods to facilitate this discussion. Open to all adults. \n\n\n\nThe 2-way Discussion Group meets in person in the Sojourners Room and virtually on Zoom on Sundays following worship at 12:30 p.m. The meeting time is occasionally rescheduled or cancelled to accommodate other after-church events such as fellowship meals and quarterly business meetings. \n\n\n\nClick the button below to get the Zoom link to attend! \n\n\n\n\nGet Zoom Link
URL:https://firstbaptistlawrence.com/event/2-way-sermon-discussion-group-2/2025-06-29/
END:VEVENT
BEGIN:VEVENT
DTSTART;TZID=America/Chicago:20250706T083800
DTEND;TZID=America/Chicago:20250706T093000
DTSTAMP:20260425T081324
CREATED:20241106T233946Z
LAST-MODIFIED:20241107T000416Z
UID:10021652-1751791080-1751794200@firstbaptistlawrence.com
SUMMARY:838 Worship Service
DESCRIPTION:Join us each Sunday at 8:38 a.m. in person in the Judson Room (enter front double doors and walk straight ahead until you find people)! This service is less formal and more interactive in nature\, and is not livestreamed. (Join us at 11:00 a.m. for a livestreamed service!) It’s about 45 minutes long.
URL:https://firstbaptistlawrence.com/event/838-worship-service-2/2025-07-06/
END:VEVENT
BEGIN:VEVENT
DTSTART;TZID=America/Chicago:20250706T093000
DTEND;TZID=America/Chicago:20250706T103000
DTSTAMP:20260425T081324
CREATED:20250418T174322Z
LAST-MODIFIED:20250418T174324Z
UID:10022108-1751794200-1751797800@firstbaptistlawrence.com
SUMMARY:Sunday School
DESCRIPTION:Join us for a children’s\, youth\, or adult Sunday school class! More info here: \n\n\n\nChildren \n\n\n\nYouth \n\n\n\nAdults
URL:https://firstbaptistlawrence.com/event/sunday-school-3/2025-07-06/
END:VEVENT
BEGIN:VEVENT
DTSTART;TZID=America/Chicago:20250706T103000
DTEND;TZID=America/Chicago:20250706T110000
DTSTAMP:20260425T081324
CREATED:20210809T215807Z
LAST-MODIFIED:20230328T223510Z
UID:10021031-1751797800-1751799600@firstbaptistlawrence.com
SUMMARY:Fellowship Time & Children's Explorations
DESCRIPTION:Between Sunday school and the 11:00 a.m. worship service: Coffee and fellowship for adults and youth\, and time with Pastor Cristina for the kids up through 5th grade!
URL:https://firstbaptistlawrence.com/event/fellowship-time-childrens-music-time-2023-04-02/2025-07-06/
LOCATION:First Baptist Church Lawrence\, 1330 Kasold Dr\, Lawrence\, KS\, 66049\, United States
GEO:38.9600713;-95.2774978
X-APPLE-STRUCTURED-LOCATION;VALUE=URI;X-ADDRESS=First Baptist Church Lawrence 1330 Kasold Dr Lawrence KS 66049 United States;X-APPLE-RADIUS=500;X-TITLE=1330 Kasold Dr:geo:-95.2774978,38.9600713
END:VEVENT
BEGIN:VEVENT
DTSTART;TZID=America/Chicago:20250706T110000
DTEND;TZID=America/Chicago:20250706T120000
DTSTAMP:20260425T081324
CREATED:20250418T175658Z
LAST-MODIFIED:20250418T175700Z
UID:10022218-1751799600-1751803200@firstbaptistlawrence.com
SUMMARY:In-person & Virtual Worship
DESCRIPTION:Join us for in-person worship or virtually for the livestream on YouTube or Facebook!
URL:https://firstbaptistlawrence.com/event/in-person-virtual-worship-3/2025-07-06/
CATEGORIES:Worship
END:VEVENT
BEGIN:VEVENT
DTSTART;TZID=America/Chicago:20250706T123000
DTEND;TZID=America/Chicago:20250706T133000
DTSTAMP:20260425T081324
CREATED:20241212T205607Z
LAST-MODIFIED:20241212T205714Z
UID:10021729-1751805000-1751808600@firstbaptistlawrence.com
SUMMARY:2-Way Sermon Discussion Group
DESCRIPTION:The Two-Way Sermon Discussion is just that—an opportunity to discuss the past Sunday’s sermon with Pastor Matt. Pastor Matt provides his sermon manuscript for all to peruse as we talk about the parts that are most salient and meaningful for each of us. The last fifteen minutes is spent reading and discussing the scripture for the next Sunday’s sermon. Often\, he uses Lectio Divina reading and questioning methods to facilitate this discussion. Open to all adults. \n\n\n\nThe 2-way Discussion Group meets in person in the Sojourners Room and virtually on Zoom on Sundays following worship at 12:30 p.m. The meeting time is occasionally rescheduled or cancelled to accommodate other after-church events such as fellowship meals and quarterly business meetings. \n\n\n\nClick the button below to get the Zoom link to attend! \n\n\n\n\nGet Zoom Link
URL:https://firstbaptistlawrence.com/event/2-way-sermon-discussion-group-2/2025-07-06/
END:VEVENT
BEGIN:VEVENT
DTSTART;TZID=America/Chicago:20250713T083800
DTEND;TZID=America/Chicago:20250713T093000
DTSTAMP:20260425T081324
CREATED:20241106T233946Z
LAST-MODIFIED:20241107T000416Z
UID:10021653-1752395880-1752399000@firstbaptistlawrence.com
SUMMARY:838 Worship Service
DESCRIPTION:Join us each Sunday at 8:38 a.m. in person in the Judson Room (enter front double doors and walk straight ahead until you find people)! This service is less formal and more interactive in nature\, and is not livestreamed. (Join us at 11:00 a.m. for a livestreamed service!) It’s about 45 minutes long.
URL:https://firstbaptistlawrence.com/event/838-worship-service-2/2025-07-13/
END:VEVENT
BEGIN:VEVENT
DTSTART;TZID=America/Chicago:20250713T093000
DTEND;TZID=America/Chicago:20250713T103000
DTSTAMP:20260425T081324
CREATED:20250418T174322Z
LAST-MODIFIED:20250418T174324Z
UID:10022109-1752399000-1752402600@firstbaptistlawrence.com
SUMMARY:Sunday School
DESCRIPTION:Join us for a children’s\, youth\, or adult Sunday school class! More info here: \n\n\n\nChildren \n\n\n\nYouth \n\n\n\nAdults
URL:https://firstbaptistlawrence.com/event/sunday-school-3/2025-07-13/
END:VEVENT
BEGIN:VEVENT
DTSTART;TZID=America/Chicago:20250713T103000
DTEND;TZID=America/Chicago:20250713T110000
DTSTAMP:20260425T081324
CREATED:20210809T215807Z
LAST-MODIFIED:20230328T223510Z
UID:10021032-1752402600-1752404400@firstbaptistlawrence.com
SUMMARY:Fellowship Time & Children's Explorations
DESCRIPTION:Between Sunday school and the 11:00 a.m. worship service: Coffee and fellowship for adults and youth\, and time with Pastor Cristina for the kids up through 5th grade!
URL:https://firstbaptistlawrence.com/event/fellowship-time-childrens-music-time-2023-04-02/2025-07-13/
LOCATION:First Baptist Church Lawrence\, 1330 Kasold Dr\, Lawrence\, KS\, 66049\, United States
GEO:38.9600713;-95.2774978
X-APPLE-STRUCTURED-LOCATION;VALUE=URI;X-ADDRESS=First Baptist Church Lawrence 1330 Kasold Dr Lawrence KS 66049 United States;X-APPLE-RADIUS=500;X-TITLE=1330 Kasold Dr:geo:-95.2774978,38.9600713
END:VEVENT
BEGIN:VEVENT
DTSTART;TZID=America/Chicago:20250713T110000
DTEND;TZID=America/Chicago:20250713T120000
DTSTAMP:20260425T081324
CREATED:20250702T185506Z
LAST-MODIFIED:20250702T185509Z
UID:10022219-1752404400-1752408000@firstbaptistlawrence.com
SUMMARY:In-person & Virtual Worship
DESCRIPTION:Today\, we begin the “Peace with Others” sub-series in our Seeking Peace Together summer worship series in both the 838a and 11a services! Join us for in-person worship or virtually for the livestream on YouTube or Facebook!
URL:https://firstbaptistlawrence.com/event/in-person-virtual-worship-7/
CATEGORIES:Worship
ATTACH;FMTTYPE=image/jpeg:https://firstbaptistlawrence.com/wp-content/uploads/2025/04/2025-Summer-Worship-Series-Seeking-Peace-Together.jpg
END:VEVENT
BEGIN:VEVENT
DTSTART;TZID=America/Chicago:20250713T123000
DTEND;TZID=America/Chicago:20250713T133000
DTSTAMP:20260425T081324
CREATED:20241212T205607Z
LAST-MODIFIED:20241212T205714Z
UID:10021730-1752409800-1752413400@firstbaptistlawrence.com
SUMMARY:2-Way Sermon Discussion Group
DESCRIPTION:The Two-Way Sermon Discussion is just that—an opportunity to discuss the past Sunday’s sermon with Pastor Matt. Pastor Matt provides his sermon manuscript for all to peruse as we talk about the parts that are most salient and meaningful for each of us. The last fifteen minutes is spent reading and discussing the scripture for the next Sunday’s sermon. Often\, he uses Lectio Divina reading and questioning methods to facilitate this discussion. Open to all adults. \n\n\n\nThe 2-way Discussion Group meets in person in the Sojourners Room and virtually on Zoom on Sundays following worship at 12:30 p.m. The meeting time is occasionally rescheduled or cancelled to accommodate other after-church events such as fellowship meals and quarterly business meetings. \n\n\n\nClick the button below to get the Zoom link to attend! \n\n\n\n\nGet Zoom Link
URL:https://firstbaptistlawrence.com/event/2-way-sermon-discussion-group-2/2025-07-13/
END:VEVENT
BEGIN:VEVENT
DTSTART;TZID=America/Chicago:20250719T183000
DTEND;TZID=America/Chicago:20250719T200000
DTSTAMP:20260425T081324
CREATED:20250702T183129Z
LAST-MODIFIED:20250702T183133Z
UID:10022293-1752949800-1752955200@firstbaptistlawrence.com
SUMMARY:Movie Night
DESCRIPTION:Join us in the Sojourner’s Room to watch last summer’s family-friendly blockbuster sequel about feelings! Popcorn will be provided. All are welcome!
URL:https://firstbaptistlawrence.com/event/movie-night-2/
ATTACH;FMTTYPE=image/jpeg:https://firstbaptistlawrence.com/wp-content/uploads/2025/07/2025-Movie-Night-1920x1080px.jpg
END:VEVENT
BEGIN:VEVENT
DTSTART;TZID=America/Chicago:20250720T083800
DTEND;TZID=America/Chicago:20250720T093000
DTSTAMP:20260425T081324
CREATED:20241106T233946Z
LAST-MODIFIED:20241107T000416Z
UID:10021654-1753000680-1753003800@firstbaptistlawrence.com
SUMMARY:838 Worship Service
DESCRIPTION:Join us each Sunday at 8:38 a.m. in person in the Judson Room (enter front double doors and walk straight ahead until you find people)! This service is less formal and more interactive in nature\, and is not livestreamed. (Join us at 11:00 a.m. for a livestreamed service!) It’s about 45 minutes long.
URL:https://firstbaptistlawrence.com/event/838-worship-service-2/2025-07-20/
END:VEVENT
BEGIN:VEVENT
DTSTART;TZID=America/Chicago:20250720T093000
DTEND;TZID=America/Chicago:20250720T103000
DTSTAMP:20260425T081324
CREATED:20250418T174322Z
LAST-MODIFIED:20250418T174324Z
UID:10022110-1753003800-1753007400@firstbaptistlawrence.com
SUMMARY:Sunday School
DESCRIPTION:Join us for a children’s\, youth\, or adult Sunday school class! More info here: \n\n\n\nChildren \n\n\n\nYouth \n\n\n\nAdults
URL:https://firstbaptistlawrence.com/event/sunday-school-3/2025-07-20/
END:VEVENT
BEGIN:VEVENT
DTSTART;TZID=America/Chicago:20250720T103000
DTEND;TZID=America/Chicago:20250720T110000
DTSTAMP:20260425T081324
CREATED:20210809T215807Z
LAST-MODIFIED:20230328T223510Z
UID:10021033-1753007400-1753009200@firstbaptistlawrence.com
SUMMARY:Fellowship Time & Children's Explorations
DESCRIPTION:Between Sunday school and the 11:00 a.m. worship service: Coffee and fellowship for adults and youth\, and time with Pastor Cristina for the kids up through 5th grade!
URL:https://firstbaptistlawrence.com/event/fellowship-time-childrens-music-time-2023-04-02/2025-07-20/
LOCATION:First Baptist Church Lawrence\, 1330 Kasold Dr\, Lawrence\, KS\, 66049\, United States
GEO:38.9600713;-95.2774978
X-APPLE-STRUCTURED-LOCATION;VALUE=URI;X-ADDRESS=First Baptist Church Lawrence 1330 Kasold Dr Lawrence KS 66049 United States;X-APPLE-RADIUS=500;X-TITLE=1330 Kasold Dr:geo:-95.2774978,38.9600713
END:VEVENT
BEGIN:VEVENT
DTSTART;TZID=America/Chicago:20250720T110000
DTEND;TZID=America/Chicago:20250720T120000
DTSTAMP:20260425T081324
CREATED:20250418T175658Z
LAST-MODIFIED:20250418T175700Z
UID:10022220-1753009200-1753012800@firstbaptistlawrence.com
SUMMARY:In-person & Virtual Worship
DESCRIPTION:Join us for in-person worship or virtually for the livestream on YouTube or Facebook!
URL:https://firstbaptistlawrence.com/event/in-person-virtual-worship-3/2025-07-20/
CATEGORIES:Worship
END:VEVENT
BEGIN:VEVENT
DTSTART;TZID=America/Chicago:20250720T123000
DTEND;TZID=America/Chicago:20250720T133000
DTSTAMP:20260425T081324
CREATED:20241212T205607Z
LAST-MODIFIED:20241212T205714Z
UID:10021731-1753014600-1753018200@firstbaptistlawrence.com
SUMMARY:2-Way Sermon Discussion Group
DESCRIPTION:The Two-Way Sermon Discussion is just that—an opportunity to discuss the past Sunday’s sermon with Pastor Matt. Pastor Matt provides his sermon manuscript for all to peruse as we talk about the parts that are most salient and meaningful for each of us. The last fifteen minutes is spent reading and discussing the scripture for the next Sunday’s sermon. Often\, he uses Lectio Divina reading and questioning methods to facilitate this discussion. Open to all adults. \n\n\n\nThe 2-way Discussion Group meets in person in the Sojourners Room and virtually on Zoom on Sundays following worship at 12:30 p.m. The meeting time is occasionally rescheduled or cancelled to accommodate other after-church events such as fellowship meals and quarterly business meetings. \n\n\n\nClick the button below to get the Zoom link to attend! \n\n\n\n\nGet Zoom Link
URL:https://firstbaptistlawrence.com/event/2-way-sermon-discussion-group-2/2025-07-20/
END:VEVENT
BEGIN:VEVENT
DTSTART;TZID=America/Chicago:20250726T130000
DTEND;TZID=America/Chicago:20250726T140000
DTSTAMP:20260425T081324
CREATED:20250702T185828Z
LAST-MODIFIED:20250702T185915Z
UID:10021686-1753534800-1753538400@firstbaptistlawrence.com
SUMMARY:Harvesters Mobile Food Pantry
DESCRIPTION:The Harvesters Mobile Food Pantry comes to FBC on the 4th Saturday of each month\, from 1:00 to 2:00 p.m.  (EXCEPTION: there may be alternate distribution dates during the months of November and December when the 4th Saturday falls on Thanksgiving weekend and Christmas weekend. In 2024\, we’re having distributions in both months—on 11/23 and 12/28/24!)  \n\n\n\nThe mobile food pantry is a drive-through distribution in the FBC parking lot. \n\n\n\n\nDistribution will be limited to no more than 3 households per vehicle. \n\n\n\nGuests\, please clear as much space as possible in your trunk or cargo area. We would like to avoid loading inside the seats of the vehicles to better social distance. To the extent possible\, limit the number of passengers with you. (We do understand some families must bring their children along.) \n\n\n\nBlessings to you all from FBC and our mobile food pantry partners.\n\n\n\n\n\n\n\n\nCatholic Charities of Northeast Kansas\, Trinity Interfaith Food Pantry\, Pelathe District Boy Scouts\, and First Baptist Church are partners in carrying out this distribution. \n\n\n\nYou can learn more about Harvesters on their website here. You can also visit this page on their site\, where you can type your zip code into a food assistance service locator to see organizations in your area where you may receive assistance. There\, you can click to specify the service type you seek: Pantry\, Mobile Distribution\, or Onsite Meals.
URL:https://firstbaptistlawrence.com/event/harvesters-mobile-food-pantry-3/
ATTACH;FMTTYPE=image/jpeg:https://firstbaptistlawrence.com/wp-content/uploads/2019/10/Mobile-Food-Pantry-PP-Slide-no-date-.jpg
END:VEVENT
BEGIN:VEVENT
DTSTART;TZID=America/Chicago:20250727T083800
DTEND;TZID=America/Chicago:20250727T093000
DTSTAMP:20260425T081324
CREATED:20241106T233946Z
LAST-MODIFIED:20241107T000416Z
UID:10021655-1753605480-1753608600@firstbaptistlawrence.com
SUMMARY:838 Worship Service
DESCRIPTION:Join us each Sunday at 8:38 a.m. in person in the Judson Room (enter front double doors and walk straight ahead until you find people)! This service is less formal and more interactive in nature\, and is not livestreamed. (Join us at 11:00 a.m. for a livestreamed service!) It’s about 45 minutes long.
URL:https://firstbaptistlawrence.com/event/838-worship-service-2/2025-07-27/
END:VEVENT
BEGIN:VEVENT
DTSTART;TZID=America/Chicago:20250727T093000
DTEND;TZID=America/Chicago:20250727T103000
DTSTAMP:20260425T081324
CREATED:20250418T174322Z
LAST-MODIFIED:20250418T174324Z
UID:10022111-1753608600-1753612200@firstbaptistlawrence.com
SUMMARY:Sunday School
DESCRIPTION:Join us for a children’s\, youth\, or adult Sunday school class! More info here: \n\n\n\nChildren \n\n\n\nYouth \n\n\n\nAdults
URL:https://firstbaptistlawrence.com/event/sunday-school-3/2025-07-27/
END:VEVENT
BEGIN:VEVENT
DTSTART;TZID=America/Chicago:20250727T103000
DTEND;TZID=America/Chicago:20250727T110000
DTSTAMP:20260425T081324
CREATED:20210809T215807Z
LAST-MODIFIED:20230328T223510Z
UID:10021034-1753612200-1753614000@firstbaptistlawrence.com
SUMMARY:Fellowship Time & Children's Explorations
DESCRIPTION:Between Sunday school and the 11:00 a.m. worship service: Coffee and fellowship for adults and youth\, and time with Pastor Cristina for the kids up through 5th grade!
URL:https://firstbaptistlawrence.com/event/fellowship-time-childrens-music-time-2023-04-02/2025-07-27/
LOCATION:First Baptist Church Lawrence\, 1330 Kasold Dr\, Lawrence\, KS\, 66049\, United States
GEO:38.9600713;-95.2774978
X-APPLE-STRUCTURED-LOCATION;VALUE=URI;X-ADDRESS=First Baptist Church Lawrence 1330 Kasold Dr Lawrence KS 66049 United States;X-APPLE-RADIUS=500;X-TITLE=1330 Kasold Dr:geo:-95.2774978,38.9600713
END:VEVENT
BEGIN:VEVENT
DTSTART;TZID=America/Chicago:20250727T110000
DTEND;TZID=America/Chicago:20250727T120000
DTSTAMP:20260425T081324
CREATED:20250418T175658Z
LAST-MODIFIED:20250418T175700Z
UID:10022221-1753614000-1753617600@firstbaptistlawrence.com
SUMMARY:In-person & Virtual Worship
DESCRIPTION:Join us for in-person worship or virtually for the livestream on YouTube or Facebook!
URL:https://firstbaptistlawrence.com/event/in-person-virtual-worship-3/2025-07-27/
CATEGORIES:Worship
END:VEVENT
BEGIN:VEVENT
DTSTART;TZID=America/Chicago:20250727T120000
DTEND;TZID=America/Chicago:20250727T140000
DTSTAMP:20260425T081324
CREATED:20250725T203957Z
LAST-MODIFIED:20250725T204133Z
UID:10022294-1753617600-1753624800@firstbaptistlawrence.com
SUMMARY:Fellowship Lunch & Quarterly Business Meeting
DESCRIPTION:Join us immediately following 11am worship for a fellowship lunch\, then at 1:00pm come to the July quarterly business meeting\, in person or virtually on Zoom. Request Zoom link here.
URL:https://firstbaptistlawrence.com/event/fellowship-lunch-quarterly-business-meeting-2/
ATTACH;FMTTYPE=image/jpeg:https://firstbaptistlawrence.com/wp-content/uploads/2025/07/Quarterly-Business-Meeting-lightbulb-2025_07-PP.jpg
END:VEVENT
BEGIN:VEVENT
DTSTART;TZID=America/Chicago:20250727T123000
DTEND;TZID=America/Chicago:20250727T133000
DTSTAMP:20260425T081324
CREATED:20250726T171802Z
LAST-MODIFIED:20250726T171806Z
UID:10021732-1753619400-1753623000@firstbaptistlawrence.com
SUMMARY:NO 2-Way Sermon Discussion Group
DESCRIPTION:There will be no Two-Way Sermon Discussion Group this week due to the Fellowship Lunch and Quarterly Business Meeting. See you next week!
URL:https://firstbaptistlawrence.com/event/2-way-sermon-discussion-group-4/
END:VEVENT
BEGIN:VEVENT
DTSTART;TZID=America/Chicago:20250727T123000
DTEND;TZID=America/Chicago:20250727T133000
DTSTAMP:20260425T081324
CREATED:20250726T172240Z
LAST-MODIFIED:20250726T172243Z
UID:10022299-1753619400-1753623000@firstbaptistlawrence.com
SUMMARY:NO Two-Way Sermon Discussion Group Today
DESCRIPTION:There will be no 2-way Sermon Discussion Group today due to the Fellowship Lunch and Quarterly Business Meeting. (Note: Please ignore the duplicate item that shows the discussion group as still meeting. There is a website glitch that we’re saving it for so the glitch can be reported.)
URL:https://firstbaptistlawrence.com/event/no-two-way-sermon-discussion-group-today/
END:VEVENT
BEGIN:VEVENT
DTSTART;TZID=America/Chicago:20250803T083800
DTEND;TZID=America/Chicago:20250803T093000
DTSTAMP:20260425T081324
CREATED:20241106T233946Z
LAST-MODIFIED:20241107T000416Z
UID:10021656-1754210280-1754213400@firstbaptistlawrence.com
SUMMARY:838 Worship Service
DESCRIPTION:Join us each Sunday at 8:38 a.m. in person in the Judson Room (enter front double doors and walk straight ahead until you find people)! This service is less formal and more interactive in nature\, and is not livestreamed. (Join us at 11:00 a.m. for a livestreamed service!) It’s about 45 minutes long.
URL:https://firstbaptistlawrence.com/event/838-worship-service-2/2025-08-03/
END:VEVENT
BEGIN:VEVENT
DTSTART;TZID=America/Chicago:20250803T093000
DTEND;TZID=America/Chicago:20250803T103000
DTSTAMP:20260425T081324
CREATED:20250418T174322Z
LAST-MODIFIED:20250418T174324Z
UID:10022112-1754213400-1754217000@firstbaptistlawrence.com
SUMMARY:Sunday School
DESCRIPTION:Join us for a children’s\, youth\, or adult Sunday school class! More info here: \n\n\n\nChildren \n\n\n\nYouth \n\n\n\nAdults
URL:https://firstbaptistlawrence.com/event/sunday-school-3/2025-08-03/
END:VEVENT
END:VCALENDAR