BEGIN:VCALENDAR
VERSION:2.0
PRODID:-//First Baptist Church - ECPv6.15.20//NONSGML v1.0//EN
CALSCALE:GREGORIAN
METHOD:PUBLISH
X-WR-CALNAME:First Baptist Church
X-ORIGINAL-URL:https://firstbaptistlawrence.com
X-WR-CALDESC:Events for First Baptist Church
REFRESH-INTERVAL;VALUE=DURATION:PT1H
X-Robots-Tag:noindex
X-PUBLISHED-TTL:PT1H
BEGIN:VTIMEZONE
TZID:America/Chicago
BEGIN:DAYLIGHT
TZOFFSETFROM:-0600
TZOFFSETTO:-0500
TZNAME:CDT
DTSTART:20240310T080000
END:DAYLIGHT
BEGIN:STANDARD
TZOFFSETFROM:-0500
TZOFFSETTO:-0600
TZNAME:CST
DTSTART:20241103T070000
END:STANDARD
BEGIN:DAYLIGHT
TZOFFSETFROM:-0600
TZOFFSETTO:-0500
TZNAME:CDT
DTSTART:20250309T080000
END:DAYLIGHT
BEGIN:STANDARD
TZOFFSETFROM:-0500
TZOFFSETTO:-0600
TZNAME:CST
DTSTART:20251102T070000
END:STANDARD
BEGIN:DAYLIGHT
TZOFFSETFROM:-0600
TZOFFSETTO:-0500
TZNAME:CDT
DTSTART:20260308T080000
END:DAYLIGHT
BEGIN:STANDARD
TZOFFSETFROM:-0500
TZOFFSETTO:-0600
TZNAME:CST
DTSTART:20261101T070000
END:STANDARD
END:VTIMEZONE
BEGIN:VEVENT
DTSTART;TZID=America/Chicago:20250901T090000
DTEND;TZID=America/Chicago:20250901T140000
DTSTAMP:20260421T110326
CREATED:20250725T214513Z
LAST-MODIFIED:20250901T133240Z
UID:10022296-1756717200-1756735200@firstbaptistlawrence.com
SUMMARY:***CANCELED*** Earthworks Team Blue Landon Trail Bike Ride
DESCRIPTION:The ride is cancelled due to increasing thunderstorm chances by 11:00 a.m. Sorry for any inconvenience! \n\n\n\nLabor away the day on your bike!  Let’s head out to the Landon Rail Trail near Berryton for a 7–14 mile bike ride.  Helmet is required.  Bring water and lunch.  We’ll leave from the church at 9 am and caravan to a rural area near Berryton on Green Road or to Berryton depending on trail conditions.  From Green Road\, the ride to the northwest will be an out-and-back of 7 miles for those wanting a shorter distance and then a ride to the southeast as another out-and-back of 7 more miles for those wanting to stretch out their legs a bit more.  We plan to return by 2 pm.  Contact Lynne for more information.
URL:https://firstbaptistlawrence.com/event/earthworks-team-blue-landon-trail-bike-ride/
CATEGORIES:Earthworks,Team Blue
ATTACH;FMTTYPE=image/jpeg:https://firstbaptistlawrence.com/wp-content/uploads/2025/07/Landon-Trail-Bike-Ride-2025_09_01.jpg
END:VEVENT
BEGIN:VEVENT
DTSTART;TZID=America/Chicago:20250906T093000
DTEND;TZID=America/Chicago:20250906T103000
DTSTAMP:20260421T110326
CREATED:20250814T161137Z
LAST-MODIFIED:20250814T161141Z
UID:10022352-1757151000-1757154600@firstbaptistlawrence.com
SUMMARY:Welcome Coffee
DESCRIPTION:Are you new to FBC? Visiting? Recently Joined? (Or do you just still feel new?) You’re invited to a welcome coffee\, where you can learn more about FBC\, ask questions\, and meet a few people\, plus enjoy some coffee and sweet breakfast-y treats!
URL:https://firstbaptistlawrence.com/event/welcome-coffee-5/
ATTACH;FMTTYPE=image/jpeg:https://firstbaptistlawrence.com/wp-content/uploads/2025/08/Welcome-Coffee-2025_09_06-1920x1080p.jpg
END:VEVENT
BEGIN:VEVENT
DTSTART;TZID=America/Chicago:20250907T083800
DTEND;TZID=America/Chicago:20250907T093000
DTSTAMP:20260421T110326
CREATED:20250905T211115Z
LAST-MODIFIED:20250905T212913Z
UID:10022358-1757234280-1757237400@firstbaptistlawrence.com
SUMMARY:8:38 & 11:00a Worship Services with FBC's Nicaragua Team
DESCRIPTION:This morning\, during both worship services\, FBC’s Nicaragua team\, who traveled to Nicaragua to work with AMOS Health & Hope back in June\, will share briefly as part of worship about their time there. They will also lead in worship at the 11:00 one. Then\, right after 11:00 worship at around 12:00p\, we’ll have a fellowship lunch (a fundraiser)\, where a slideshow of trip photos will run while folks are eating. The team will talk in more detail about the trip and answer any questions you may have. Hope you can join us! \n\n\n\nMore about 8:38 a.m. worship as it usually happens: Join us each Sunday at 8:38 a.m. in person in the Judson Room (enter front double doors and walk straight ahead until you find people)! This service is less formal and more interactive in nature\, and is not livestreamed. (Join us at 11:00 a.m. for a livestreamed service!) It’s about 45 minutes long.
URL:https://firstbaptistlawrence.com/event/838-worship-service-with-fbcs-nicaragua-team/
ATTACH;FMTTYPE=image/jpeg:https://firstbaptistlawrence.com/wp-content/uploads/2025/09/2025_09_07-Nicaragua-Team-Sunday-PP.jpg
END:VEVENT
BEGIN:VEVENT
DTSTART;TZID=America/Chicago:20250907T093000
DTEND;TZID=America/Chicago:20250907T103000
DTSTAMP:20260421T110326
CREATED:20250418T174322Z
LAST-MODIFIED:20250418T174324Z
UID:10022117-1757237400-1757241000@firstbaptistlawrence.com
SUMMARY:Sunday School
DESCRIPTION:Join us for a children’s\, youth\, or adult Sunday school class! More info here: \n\n\n\nChildren \n\n\n\nYouth \n\n\n\nAdults
URL:https://firstbaptistlawrence.com/event/sunday-school-3/2025-09-07/
END:VEVENT
BEGIN:VEVENT
DTSTART;TZID=America/Chicago:20250907T103000
DTEND;TZID=America/Chicago:20250907T110000
DTSTAMP:20260421T110326
CREATED:20210809T215807Z
LAST-MODIFIED:20230328T223510Z
UID:10021040-1757241000-1757242800@firstbaptistlawrence.com
SUMMARY:Fellowship Time & Children's Explorations
DESCRIPTION:Between Sunday school and the 11:00 a.m. worship service: Coffee and fellowship for adults and youth\, and time with Pastor Cristina for the kids up through 5th grade!
URL:https://firstbaptistlawrence.com/event/fellowship-time-childrens-music-time-2023-04-02/2025-09-07/
LOCATION:First Baptist Church Lawrence\, 1330 Kasold Dr\, Lawrence\, KS\, 66049\, United States
GEO:38.9600713;-95.2774978
X-APPLE-STRUCTURED-LOCATION;VALUE=URI;X-ADDRESS=First Baptist Church Lawrence 1330 Kasold Dr Lawrence KS 66049 United States;X-APPLE-RADIUS=500;X-TITLE=1330 Kasold Dr:geo:-95.2774978,38.9600713
END:VEVENT
BEGIN:VEVENT
DTSTART;TZID=America/Chicago:20250907T110000
DTEND;TZID=America/Chicago:20250907T120000
DTSTAMP:20260421T110326
CREATED:20250905T210905Z
LAST-MODIFIED:20250905T210907Z
UID:10022359-1757242800-1757246400@firstbaptistlawrence.com
SUMMARY:In-person & Virtual Worship with FBC's Nicaragua Team
DESCRIPTION:This morning\, FBC’s Nicaragua team\, who traveled to Nicaragua to work with AMOS Health & Hope back in June\, will share briefly as part of worship about their time there during both the 838a and 11:00a services and lead in worship at the 11:00 one. Then\, right after 11:00 worship at around 12:00p\, we’ll have a fellowship lunch (a fundraiser)\, where a slideshow of trip photos will run while folks are eating. The team will talk in more detail about the trip and answer any questions you may have. Hope you can join us! \n\n\n\nJoin us for in-person worship or virtually for the livestream on YouTube or Facebook!
URL:https://firstbaptistlawrence.com/event/in-person-virtual-worship-with-fbcs-nicaragua-team/
CATEGORIES:Worship
ATTACH;FMTTYPE=image/jpeg:https://firstbaptistlawrence.com/wp-content/uploads/2025/09/2025_09_07-Nicaragua-Team-Sunday-PP.jpg
END:VEVENT
BEGIN:VEVENT
DTSTART;TZID=America/Chicago:20250907T120000
DTEND;TZID=America/Chicago:20250907T140000
DTSTAMP:20260421T110326
CREATED:20250905T211821Z
LAST-MODIFIED:20250905T211824Z
UID:10022360-1757246400-1757253600@firstbaptistlawrence.com
SUMMARY:Fellowship Lunch & Presentation by FBC's Team Nicaragua
DESCRIPTION:Right after 11:00 worship at around 12:00p\, we’ll have a fellowship lunch (a fundraiser)\, and the Nicaragua Team\, who traveled to work with AMOS Health & Hope back in June\, will share more about their trip! A slideshow of trip photos will run while folks are eating. Then\, the team will talk in more detail about the trip and answer any questions you may have. Hope you can join us! \n\n\n\nThe team will also have shared briefly as part of worship about their time there during both the 838a and 11:00a services and will have lead in worship at the 11:00 one today.
URL:https://firstbaptistlawrence.com/event/fellowship-lunch-presentation-by-fbcs-team-nicaragua/
ATTACH;FMTTYPE=image/jpeg:https://firstbaptistlawrence.com/wp-content/uploads/2025/09/2025_09_07-Nicaragua-Team-Sunday-PP.jpg
END:VEVENT
BEGIN:VEVENT
DTSTART;TZID=America/Chicago:20250907T123000
DTEND;TZID=America/Chicago:20250907T133000
DTSTAMP:20260421T110326
CREATED:20250905T212649Z
LAST-MODIFIED:20250905T212651Z
UID:10022361-1757248200-1757251800@firstbaptistlawrence.com
SUMMARY:NO 2-Way Sermon Discussion Group Today
DESCRIPTION:Due to the fellowship lunch today with the Nicaragua Team presentation\, there will be no Two-Way Discussion Group today. See you next week! \n\n\n\nAbout the Two-Way: The Two-Way Sermon Discussion is just that—an opportunity to discuss the past Sunday’s sermon with Pastor Matt. Pastor Matt provides his sermon manuscript for all to peruse as we talk about the parts that are most salient and meaningful for each of us. The last fifteen minutes is spent reading and discussing the scripture for the next Sunday’s sermon. Often\, he uses Lectio Divina reading and questioning methods to facilitate this discussion. Open to all adults. \n\n\n\nThe 2-way Discussion Group meets in person in the Sojourners Room and virtually on Zoom on Sundays following worship at 12:30 p.m. The meeting time is occasionally rescheduled or cancelled to accommodate other after-church events such as fellowship meals and quarterly business meetings. \n\n\n\nClick the button below to get the Zoom link to attend! \n\n\n\n\nGet Zoom Link
URL:https://firstbaptistlawrence.com/event/no-2-way-sermon-discussion-group-today/
END:VEVENT
BEGIN:VEVENT
DTSTART;TZID=America/Chicago:20250909T190000
DTEND;TZID=America/Chicago:20250909T200000
DTSTAMP:20260421T110326
CREATED:20250814T164445Z
LAST-MODIFIED:20250814T164517Z
UID:10022353-1757444400-1757448000@firstbaptistlawrence.com
SUMMARY:Women's Bible Study
DESCRIPTION:The FBC Women’s Bible Study Group is an open women’s group that usually meets monthly during the school year on the second Tuesday at 7:00 p.m. Click the button below to receive email notices of upcoming meetings\, study topics\, and readings\, along with the Zoom link to the meeting. \n\n\n\n\nGet zoom link
URL:https://firstbaptistlawrence.com/event/womens-bible-study-4/
ATTACH;FMTTYPE=image/jpeg:https://firstbaptistlawrence.com/wp-content/uploads/2025/08/2025-Womens-Bible-Study-2nd-Tues.jpg
END:VEVENT
BEGIN:VEVENT
DTSTART;TZID=America/Chicago:20250913T190000
DTEND;TZID=America/Chicago:20250913T203000
DTSTAMP:20260421T110326
CREATED:20250725T221400Z
LAST-MODIFIED:20250816T185641Z
UID:10022297-1757790000-1757795400@firstbaptistlawrence.com
SUMMARY:Wonder Pollinator Garden Work Evening
DESCRIPTION:It is time for fall planting in the pollinator garden! Bring your work gloves\, trowel\, shovel\, water bottle\, and anything else you think might be helpful. If you’ll sign up on the SignUpGenius\, it’s helpful so we know who to expect\, but you’re also welcome to just show up ready to work.
URL:https://firstbaptistlawrence.com/event/wonder-pollinator-garden-work-evening/
CATEGORIES:Pollinator Garden,Earthworks,Team Purple,Team Blue
ATTACH;FMTTYPE=image/jpeg:https://firstbaptistlawrence.com/wp-content/uploads/2025/07/2025_09_13-pollinator-garden-work-evening.jpg
END:VEVENT
BEGIN:VEVENT
DTSTART;TZID=America/Chicago:20250914T083800
DTEND;TZID=America/Chicago:20250914T093000
DTSTAMP:20260421T110326
CREATED:20241106T233946Z
LAST-MODIFIED:20241107T000416Z
UID:10021662-1757839080-1757842200@firstbaptistlawrence.com
SUMMARY:838 Worship Service
DESCRIPTION:Join us each Sunday at 8:38 a.m. in person in the Judson Room (enter front double doors and walk straight ahead until you find people)! This service is less formal and more interactive in nature\, and is not livestreamed. (Join us at 11:00 a.m. for a livestreamed service!) It’s about 45 minutes long.
URL:https://firstbaptistlawrence.com/event/838-worship-service-2/2025-09-14/
END:VEVENT
BEGIN:VEVENT
DTSTART;TZID=America/Chicago:20250914T093000
DTEND;TZID=America/Chicago:20250914T103000
DTSTAMP:20260421T110326
CREATED:20250418T174322Z
LAST-MODIFIED:20250418T174324Z
UID:10022118-1757842200-1757845800@firstbaptistlawrence.com
SUMMARY:Sunday School
DESCRIPTION:Join us for a children’s\, youth\, or adult Sunday school class! More info here: \n\n\n\nChildren \n\n\n\nYouth \n\n\n\nAdults
URL:https://firstbaptistlawrence.com/event/sunday-school-3/2025-09-14/
END:VEVENT
BEGIN:VEVENT
DTSTART;TZID=America/Chicago:20250914T103000
DTEND;TZID=America/Chicago:20250914T110000
DTSTAMP:20260421T110326
CREATED:20210809T215807Z
LAST-MODIFIED:20230328T223510Z
UID:10021041-1757845800-1757847600@firstbaptistlawrence.com
SUMMARY:Fellowship Time & Children's Explorations
DESCRIPTION:Between Sunday school and the 11:00 a.m. worship service: Coffee and fellowship for adults and youth\, and time with Pastor Cristina for the kids up through 5th grade!
URL:https://firstbaptistlawrence.com/event/fellowship-time-childrens-music-time-2023-04-02/2025-09-14/
LOCATION:First Baptist Church Lawrence\, 1330 Kasold Dr\, Lawrence\, KS\, 66049\, United States
GEO:38.9600713;-95.2774978
X-APPLE-STRUCTURED-LOCATION;VALUE=URI;X-ADDRESS=First Baptist Church Lawrence 1330 Kasold Dr Lawrence KS 66049 United States;X-APPLE-RADIUS=500;X-TITLE=1330 Kasold Dr:geo:-95.2774978,38.9600713
END:VEVENT
BEGIN:VEVENT
DTSTART;TZID=America/Chicago:20250914T110000
DTEND;TZID=America/Chicago:20250914T120000
DTSTAMP:20260421T110326
CREATED:20250418T175658Z
LAST-MODIFIED:20250418T175700Z
UID:10022228-1757847600-1757851200@firstbaptistlawrence.com
SUMMARY:In-person & Virtual Worship
DESCRIPTION:Join us for in-person worship or virtually for the livestream on YouTube or Facebook!
URL:https://firstbaptistlawrence.com/event/in-person-virtual-worship-3/2025-09-14/
CATEGORIES:Worship
END:VEVENT
BEGIN:VEVENT
DTSTART;TZID=America/Chicago:20250914T123000
DTEND;TZID=America/Chicago:20250914T133000
DTSTAMP:20260421T110326
CREATED:20241212T205607Z
LAST-MODIFIED:20241212T205714Z
UID:10021739-1757853000-1757856600@firstbaptistlawrence.com
SUMMARY:2-Way Sermon Discussion Group
DESCRIPTION:The Two-Way Sermon Discussion is just that—an opportunity to discuss the past Sunday’s sermon with Pastor Matt. Pastor Matt provides his sermon manuscript for all to peruse as we talk about the parts that are most salient and meaningful for each of us. The last fifteen minutes is spent reading and discussing the scripture for the next Sunday’s sermon. Often\, he uses Lectio Divina reading and questioning methods to facilitate this discussion. Open to all adults. \n\n\n\nThe 2-way Discussion Group meets in person in the Sojourners Room and virtually on Zoom on Sundays following worship at 12:30 p.m. The meeting time is occasionally rescheduled or cancelled to accommodate other after-church events such as fellowship meals and quarterly business meetings. \n\n\n\nClick the button below to get the Zoom link to attend! \n\n\n\n\nGet Zoom Link
URL:https://firstbaptistlawrence.com/event/2-way-sermon-discussion-group-2/2025-09-14/
END:VEVENT
BEGIN:VEVENT
DTSTART;TZID=America/Chicago:20250915T170000
DTEND;TZID=America/Chicago:20250915T170100
DTSTAMP:20260421T110326
CREATED:20250814T141639Z
LAST-MODIFIED:20250814T141643Z
UID:10022349-1757955600-1757955660@firstbaptistlawrence.com
SUMMARY:Signup Deadline: Team Green Hazardous Waste Pickup
DESCRIPTION:Sign up by 9/15 at 5:00 p.m. to have Team Green come by your house to pick up your hazardous waste items on 9/16. Find more details and signup link on the Hazardous Waste Pickup page.
URL:https://firstbaptistlawrence.com/event/signup-deadline-team-green-hazardous-waste-pickup-10/
CATEGORIES:Earthworks,Team Green Hazardous Waste Collection
ATTACH;FMTTYPE=image/jpeg:https://firstbaptistlawrence.com/wp-content/uploads/2024/09/Haz-Waste-Signup-Deadline-1920x1080-1.jpg
END:VEVENT
BEGIN:VEVENT
DTSTART;TZID=America/Chicago:20250916T090000
DTEND;TZID=America/Chicago:20250916T110000
DTSTAMP:20260421T110326
CREATED:20250814T142134Z
LAST-MODIFIED:20250814T142141Z
UID:10022350-1758013200-1758020400@firstbaptistlawrence.com
SUMMARY:Team Green Hazardous Waste Pickup
DESCRIPTION:If you signed up by 9/15 at 5:00 p.m.\, Team Green will come by your house to pick up your hazardous waste items this morning\, 9/16. More details and signup link here.
URL:https://firstbaptistlawrence.com/event/team-green-hazardous-waste-pickup-11/
CATEGORIES:Earthworks,Team Green Hazardous Waste Collection
ATTACH;FMTTYPE=image/jpeg:https://firstbaptistlawrence.com/wp-content/uploads/2024/09/Haz-Waste-Pickup-1920x1080-1.jpg
END:VEVENT
BEGIN:VEVENT
DTSTART;TZID=America/Chicago:20250920T080000
DTEND;TZID=America/Chicago:20250920T170000
DTSTAMP:20260421T110326
CREATED:20250827T202019Z
LAST-MODIFIED:20250827T202024Z
UID:10022357-1758355200-1758387600@firstbaptistlawrence.com
SUMMARY:IN KANSAS CITY - "Faithful Responses to Climate Change" Fall Climate Conference
DESCRIPTION:Coming up on Saturday\, September 20:  the “Faithful Responses to Climate Change” Fall Climate Conference in Kansas City! Here’s a registration link if you’d like to attend—registration deadline is September 12. (In-person registration is $15 because lunch and snacks are included. Virtual registration is free\, but it includes only the 2 morning keynote speakers.) If you plan to go and would like to carpool with others from FBC\, please contact the FBC office at office@firstbaptistlawrence.com! Click the button below to visit the Central Baptist Theological Seminary website to register! \n\n\n\n\nclick to register
URL:https://firstbaptistlawrence.com/event/in-kansas-city-faithful-responses-to-climate-change-fall-climate-conference/
ATTACH;FMTTYPE=image/jpeg:https://firstbaptistlawrence.com/wp-content/uploads/2025/08/2025_09_20-CBTS-Climate-Conference-1920x1080-1.jpg
END:VEVENT
BEGIN:VEVENT
DTSTART;TZID=America/Chicago:20250921T083800
DTEND;TZID=America/Chicago:20250921T093000
DTSTAMP:20260421T110326
CREATED:20241106T233946Z
LAST-MODIFIED:20241107T000416Z
UID:10021663-1758443880-1758447000@firstbaptistlawrence.com
SUMMARY:838 Worship Service
DESCRIPTION:Join us each Sunday at 8:38 a.m. in person in the Judson Room (enter front double doors and walk straight ahead until you find people)! This service is less formal and more interactive in nature\, and is not livestreamed. (Join us at 11:00 a.m. for a livestreamed service!) It’s about 45 minutes long.
URL:https://firstbaptistlawrence.com/event/838-worship-service-2/2025-09-21/
END:VEVENT
BEGIN:VEVENT
DTSTART;TZID=America/Chicago:20250921T093000
DTEND;TZID=America/Chicago:20250921T103000
DTSTAMP:20260421T110326
CREATED:20250418T174322Z
LAST-MODIFIED:20250418T174324Z
UID:10022119-1758447000-1758450600@firstbaptistlawrence.com
SUMMARY:Sunday School
DESCRIPTION:Join us for a children’s\, youth\, or adult Sunday school class! More info here: \n\n\n\nChildren \n\n\n\nYouth \n\n\n\nAdults
URL:https://firstbaptistlawrence.com/event/sunday-school-3/2025-09-21/
END:VEVENT
BEGIN:VEVENT
DTSTART;TZID=America/Chicago:20250921T103000
DTEND;TZID=America/Chicago:20250921T110000
DTSTAMP:20260421T110326
CREATED:20210809T215807Z
LAST-MODIFIED:20230328T223510Z
UID:10021042-1758450600-1758452400@firstbaptistlawrence.com
SUMMARY:Fellowship Time & Children's Explorations
DESCRIPTION:Between Sunday school and the 11:00 a.m. worship service: Coffee and fellowship for adults and youth\, and time with Pastor Cristina for the kids up through 5th grade!
URL:https://firstbaptistlawrence.com/event/fellowship-time-childrens-music-time-2023-04-02/2025-09-21/
LOCATION:First Baptist Church Lawrence\, 1330 Kasold Dr\, Lawrence\, KS\, 66049\, United States
GEO:38.9600713;-95.2774978
X-APPLE-STRUCTURED-LOCATION;VALUE=URI;X-ADDRESS=First Baptist Church Lawrence 1330 Kasold Dr Lawrence KS 66049 United States;X-APPLE-RADIUS=500;X-TITLE=1330 Kasold Dr:geo:-95.2774978,38.9600713
END:VEVENT
BEGIN:VEVENT
DTSTART;TZID=America/Chicago:20250921T110000
DTEND;TZID=America/Chicago:20250921T120000
DTSTAMP:20260421T110326
CREATED:20250418T175658Z
LAST-MODIFIED:20250418T175700Z
UID:10022229-1758452400-1758456000@firstbaptistlawrence.com
SUMMARY:In-person & Virtual Worship
DESCRIPTION:Join us for in-person worship or virtually for the livestream on YouTube or Facebook!
URL:https://firstbaptistlawrence.com/event/in-person-virtual-worship-3/2025-09-21/
CATEGORIES:Worship
END:VEVENT
BEGIN:VEVENT
DTSTART;TZID=America/Chicago:20250921T121500
DTEND;TZID=America/Chicago:20250921T134500
DTSTAMP:20260421T110326
CREATED:20250910T210011Z
LAST-MODIFIED:20250910T210016Z
UID:10022362-1758456900-1758462300@firstbaptistlawrence.com
SUMMARY:Young Adult Lunch
DESCRIPTION:If you’re age 18–25ish\, come have lunch on FBC’s dime and enjoy some good company! Meet in the narthex after church & walk together to Jade Garden.
URL:https://firstbaptistlawrence.com/event/young-adult-lunch-6/
ATTACH;FMTTYPE=image/jpeg:https://firstbaptistlawrence.com/wp-content/uploads/2025/09/Young-Adult-Lunch-2025_09_21-PP.jpg
END:VEVENT
BEGIN:VEVENT
DTSTART;TZID=America/Chicago:20250921T123000
DTEND;TZID=America/Chicago:20250921T133000
DTSTAMP:20260421T110326
CREATED:20241212T205607Z
LAST-MODIFIED:20241212T205714Z
UID:10021740-1758457800-1758461400@firstbaptistlawrence.com
SUMMARY:2-Way Sermon Discussion Group
DESCRIPTION:The Two-Way Sermon Discussion is just that—an opportunity to discuss the past Sunday’s sermon with Pastor Matt. Pastor Matt provides his sermon manuscript for all to peruse as we talk about the parts that are most salient and meaningful for each of us. The last fifteen minutes is spent reading and discussing the scripture for the next Sunday’s sermon. Often\, he uses Lectio Divina reading and questioning methods to facilitate this discussion. Open to all adults. \n\n\n\nThe 2-way Discussion Group meets in person in the Sojourners Room and virtually on Zoom on Sundays following worship at 12:30 p.m. The meeting time is occasionally rescheduled or cancelled to accommodate other after-church events such as fellowship meals and quarterly business meetings. \n\n\n\nClick the button below to get the Zoom link to attend! \n\n\n\n\nGet Zoom Link
URL:https://firstbaptistlawrence.com/event/2-way-sermon-discussion-group-2/2025-09-21/
END:VEVENT
BEGIN:VEVENT
DTSTART;TZID=America/Chicago:20250921T190000
DTEND;TZID=America/Chicago:20250921T210000
DTSTAMP:20260421T110326
CREATED:20250910T234411Z
LAST-MODIFIED:20250917T190747Z
UID:10022364-1758481200-1758488400@firstbaptistlawrence.com
SUMMARY:FBC Earthworks Team Purple Film Study: American Buffalo Documentary\, Part 1
DESCRIPTION:Join Team Purple for a free viewing and discussion of a documentary on the American buffalo! We’ll watch in two parts: September 21 is part 1\, and September 28 will be part 2. Location: the home of Joanna and Brandon Gillette. (Sorry\, no Zoom option this time.)
URL:https://firstbaptistlawrence.com/event/fbc-earthworks-team-purple-film-study-american-buffalo-documentary-part-1/
CATEGORIES:Earthworks,Team Purple
ATTACH;FMTTYPE=image/jpeg:https://firstbaptistlawrence.com/wp-content/uploads/2025/09/1.jpg
END:VEVENT
BEGIN:VEVENT
DTSTART;TZID=America/Chicago:20250923T140000
DTEND;TZID=America/Chicago:20250923T150000
DTSTAMP:20260421T110326
CREATED:20250814T165913Z
LAST-MODIFIED:20250814T165917Z
UID:10022354-1758636000-1758639600@firstbaptistlawrence.com
SUMMARY:Senior Fellowship Party
DESCRIPTION:Come enjoy food\, fellowship\, and fun at the fall Senior Fellowship Party! If you need transportation\, please contact Nancy Bonner or email the church office.
URL:https://firstbaptistlawrence.com/event/senior-fellowship-party/
ATTACH;FMTTYPE=image/jpeg:https://firstbaptistlawrence.com/wp-content/uploads/2025/08/Senior-Party-2025_09_23-1920x1080p.jpg
END:VEVENT
BEGIN:VEVENT
DTSTART;TZID=America/Chicago:20250927T130000
DTEND;TZID=America/Chicago:20250927T140000
DTSTAMP:20260421T110326
CREATED:20250702T185717Z
LAST-MODIFIED:20250925T011558Z
UID:10021688-1758978000-1758981600@firstbaptistlawrence.com
SUMMARY:Harvesters Mobile Food Pantry
DESCRIPTION:The Harvesters Mobile Food Pantry comes to FBC on the 4th Saturday of each month\, from 1:00 to 2:00 p.m.  (EXCEPTION: there may be alternate distribution dates during the months of November and December when the 4th Saturday falls on Thanksgiving weekend and Christmas weekend.)  \n\n\n\nThe mobile food pantry is a drive-through distribution in the FBC parking lot. \n\n\n\n\nDistribution will be limited to no more than 3 households per vehicle. \n\n\n\nGuests\, please clear as much space as possible in your trunk or cargo area. We would like to avoid loading inside the seats of the vehicles to better social distance. To the extent possible\, limit the number of passengers with you. (We do understand some families must bring their children along.) \n\n\n\nBlessings to you all from FBC and our mobile food pantry partners.\n\n\n\n\n\n\n\n\nCatholic Charities of Northeast Kansas\, Trinity Interfaith Food Pantry\, Pelathe District Boy Scouts\, and First Baptist Church are partners in carrying out this distribution. \n\n\n\nYou can learn more about Harvesters on their website here. You can also visit this page on their site\, where you can type your zip code into a food assistance service locator to see organizations in your area where you may receive assistance. There\, you can click to specify the service type you seek: Pantry\, Mobile Distribution\, or Onsite Meals.
URL:https://firstbaptistlawrence.com/event/harvesters-mobile-food-pantry-2/2025-09-27/
ATTACH;FMTTYPE=image/jpeg:https://firstbaptistlawrence.com/wp-content/uploads/2019/10/Mobile-Food-Pantry-PP-Slide-no-date-.jpg
END:VEVENT
BEGIN:VEVENT
DTSTART;TZID=America/Chicago:20250928T083800
DTEND;TZID=America/Chicago:20250928T093000
DTSTAMP:20260421T110326
CREATED:20241106T233946Z
LAST-MODIFIED:20241107T000416Z
UID:10021664-1759048680-1759051800@firstbaptistlawrence.com
SUMMARY:838 Worship Service
DESCRIPTION:Join us each Sunday at 8:38 a.m. in person in the Judson Room (enter front double doors and walk straight ahead until you find people)! This service is less formal and more interactive in nature\, and is not livestreamed. (Join us at 11:00 a.m. for a livestreamed service!) It’s about 45 minutes long.
URL:https://firstbaptistlawrence.com/event/838-worship-service-2/2025-09-28/
END:VEVENT
BEGIN:VEVENT
DTSTART;TZID=America/Chicago:20250928T093000
DTEND;TZID=America/Chicago:20250928T103000
DTSTAMP:20260421T110326
CREATED:20250418T174322Z
LAST-MODIFIED:20250418T174324Z
UID:10022120-1759051800-1759055400@firstbaptistlawrence.com
SUMMARY:Sunday School
DESCRIPTION:Join us for a children’s\, youth\, or adult Sunday school class! More info here: \n\n\n\nChildren \n\n\n\nYouth \n\n\n\nAdults
URL:https://firstbaptistlawrence.com/event/sunday-school-3/2025-09-28/
END:VEVENT
BEGIN:VEVENT
DTSTART;TZID=America/Chicago:20250928T103000
DTEND;TZID=America/Chicago:20250928T110000
DTSTAMP:20260421T110326
CREATED:20210809T215807Z
LAST-MODIFIED:20230328T223510Z
UID:10021043-1759055400-1759057200@firstbaptistlawrence.com
SUMMARY:Fellowship Time & Children's Explorations
DESCRIPTION:Between Sunday school and the 11:00 a.m. worship service: Coffee and fellowship for adults and youth\, and time with Pastor Cristina for the kids up through 5th grade!
URL:https://firstbaptistlawrence.com/event/fellowship-time-childrens-music-time-2023-04-02/2025-09-28/
LOCATION:First Baptist Church Lawrence\, 1330 Kasold Dr\, Lawrence\, KS\, 66049\, United States
GEO:38.9600713;-95.2774978
X-APPLE-STRUCTURED-LOCATION;VALUE=URI;X-ADDRESS=First Baptist Church Lawrence 1330 Kasold Dr Lawrence KS 66049 United States;X-APPLE-RADIUS=500;X-TITLE=1330 Kasold Dr:geo:-95.2774978,38.9600713
END:VEVENT
END:VCALENDAR