BEGIN:VCALENDAR
VERSION:2.0
PRODID:-//First Baptist Church - ECPv6.15.20//NONSGML v1.0//EN
CALSCALE:GREGORIAN
METHOD:PUBLISH
X-WR-CALNAME:First Baptist Church
X-ORIGINAL-URL:https://firstbaptistlawrence.com
X-WR-CALDESC:Events for First Baptist Church
REFRESH-INTERVAL;VALUE=DURATION:PT1H
X-Robots-Tag:noindex
X-PUBLISHED-TTL:PT1H
BEGIN:VTIMEZONE
TZID:America/Chicago
BEGIN:DAYLIGHT
TZOFFSETFROM:-0600
TZOFFSETTO:-0500
TZNAME:CDT
DTSTART:20230312T080000
END:DAYLIGHT
BEGIN:STANDARD
TZOFFSETFROM:-0500
TZOFFSETTO:-0600
TZNAME:CST
DTSTART:20231105T070000
END:STANDARD
BEGIN:DAYLIGHT
TZOFFSETFROM:-0600
TZOFFSETTO:-0500
TZNAME:CDT
DTSTART:20240310T080000
END:DAYLIGHT
BEGIN:STANDARD
TZOFFSETFROM:-0500
TZOFFSETTO:-0600
TZNAME:CST
DTSTART:20241103T070000
END:STANDARD
BEGIN:DAYLIGHT
TZOFFSETFROM:-0600
TZOFFSETTO:-0500
TZNAME:CDT
DTSTART:20250309T080000
END:DAYLIGHT
BEGIN:STANDARD
TZOFFSETFROM:-0500
TZOFFSETTO:-0600
TZNAME:CST
DTSTART:20251102T070000
END:STANDARD
END:VTIMEZONE
BEGIN:VEVENT
DTSTART;TZID=America/Chicago:20240512T093000
DTEND;TZID=America/Chicago:20240512T103000
DTSTAMP:20260422T024838
CREATED:20240121T033836Z
LAST-MODIFIED:20240121T033837Z
UID:10018945-1715506200-1715509800@firstbaptistlawrence.com
SUMMARY:Sunday School
DESCRIPTION:Join us for a children’s\, youth\, or adult Sunday school class! More info here: \n\n\n\nChildren \n\n\n\nYouth \n\n\n\nAdults
URL:https://firstbaptistlawrence.com/event/sunday-school/2024-05-12/
END:VEVENT
BEGIN:VEVENT
DTSTART;TZID=America/Chicago:20240512T103000
DTEND;TZID=America/Chicago:20240512T110000
DTSTAMP:20260422T024838
CREATED:20210809T215807Z
LAST-MODIFIED:20230328T223510Z
UID:10020971-1715509800-1715511600@firstbaptistlawrence.com
SUMMARY:Fellowship Time & Children's Explorations
DESCRIPTION:Between Sunday school and the 11:00 a.m. worship service: Coffee and fellowship for adults and youth\, and time with Pastor Cristina for the kids up through 5th grade!
URL:https://firstbaptistlawrence.com/event/fellowship-time-childrens-music-time-2023-04-02/2024-05-12/
LOCATION:First Baptist Church Lawrence\, 1330 Kasold Dr\, Lawrence\, KS\, 66049\, United States
GEO:38.9600713;-95.2774978
X-APPLE-STRUCTURED-LOCATION;VALUE=URI;X-ADDRESS=First Baptist Church Lawrence 1330 Kasold Dr Lawrence KS 66049 United States;X-APPLE-RADIUS=500;X-TITLE=1330 Kasold Dr:geo:-95.2774978,38.9600713
END:VEVENT
BEGIN:VEVENT
DTSTART;TZID=America/Chicago:20240512T110000
DTEND;TZID=America/Chicago:20240512T120000
DTSTAMP:20260422T024838
CREATED:20231010T012613Z
LAST-MODIFIED:20231010T013132Z
UID:10021388-1715511600-1715515200@firstbaptistlawrence.com
SUMMARY:In-person & Virtual Worship
DESCRIPTION:Join us for in-person worship or virtually for the livestream on YouTube or Facebook!
URL:https://firstbaptistlawrence.com/event/in-person-virtual-worship/2024-05-12/
CATEGORIES:Worship
END:VEVENT
BEGIN:VEVENT
DTSTART;TZID=America/Chicago:20240516T191500
DTEND;TZID=America/Chicago:20240516T201500
DTSTAMP:20260422T024838
CREATED:20230810T195531Z
LAST-MODIFIED:20240509T052657Z
UID:10021259-1715886900-1715890500@firstbaptistlawrence.com
SUMMARY:Last Chancel Choir Rehearsal of the Season & Ice Cream Social
DESCRIPTION:Come celebrate a great choir season with our final rehearsal followed by an ice cream social! \n\n\n\nChancel Choir is a group of mixed voices and ages\, from high school through “endlessly experienced”! We welcome voices of any experience level and encourage singers of any style of music to participate. We’ll resume rehearsals sometime in August.
URL:https://firstbaptistlawrence.com/event/chancel-choir-rehearsal-2024-05-16/
LOCATION:First Baptist Church Lawrence\, 1330 Kasold Dr\, Lawrence\, KS\, 66049\, United States
ATTACH;FMTTYPE=image/jpeg:https://firstbaptistlawrence.com/wp-content/uploads/2023/08/2024_05_16-Choir-Rehearsal-Ice-Cream-Social.jpg
GEO:38.9600713;-95.2774978
X-APPLE-STRUCTURED-LOCATION;VALUE=URI;X-ADDRESS=First Baptist Church Lawrence 1330 Kasold Dr Lawrence KS 66049 United States;X-APPLE-RADIUS=500;X-TITLE=1330 Kasold Dr:geo:-95.2774978,38.9600713
END:VEVENT
END:VCALENDAR