BEGIN:VCALENDAR
VERSION:2.0
PRODID:-//First Baptist Church - ECPv6.15.20//NONSGML v1.0//EN
CALSCALE:GREGORIAN
METHOD:PUBLISH
X-WR-CALNAME:First Baptist Church
X-ORIGINAL-URL:https://firstbaptistlawrence.com
X-WR-CALDESC:Events for First Baptist Church
REFRESH-INTERVAL;VALUE=DURATION:PT1H
X-Robots-Tag:noindex
X-PUBLISHED-TTL:PT1H
BEGIN:VTIMEZONE
TZID:America/Chicago
BEGIN:DAYLIGHT
TZOFFSETFROM:-0600
TZOFFSETTO:-0500
TZNAME:CDT
DTSTART:20230312T080000
END:DAYLIGHT
BEGIN:STANDARD
TZOFFSETFROM:-0500
TZOFFSETTO:-0600
TZNAME:CST
DTSTART:20231105T070000
END:STANDARD
BEGIN:DAYLIGHT
TZOFFSETFROM:-0600
TZOFFSETTO:-0500
TZNAME:CDT
DTSTART:20240310T080000
END:DAYLIGHT
BEGIN:STANDARD
TZOFFSETFROM:-0500
TZOFFSETTO:-0600
TZNAME:CST
DTSTART:20241103T070000
END:STANDARD
BEGIN:DAYLIGHT
TZOFFSETFROM:-0600
TZOFFSETTO:-0500
TZNAME:CDT
DTSTART:20250309T080000
END:DAYLIGHT
BEGIN:STANDARD
TZOFFSETFROM:-0500
TZOFFSETTO:-0600
TZNAME:CST
DTSTART:20251102T070000
END:STANDARD
END:VTIMEZONE
BEGIN:VEVENT
DTSTART;TZID=America/Chicago:20240623T093000
DTEND;TZID=America/Chicago:20240623T103000
DTSTAMP:20260420T090316
CREATED:20240121T033836Z
LAST-MODIFIED:20240121T033837Z
UID:10018951-1719135000-1719138600@firstbaptistlawrence.com
SUMMARY:Sunday School
DESCRIPTION:Join us for a children’s\, youth\, or adult Sunday school class! More info here: \n\n\n\nChildren \n\n\n\nYouth \n\n\n\nAdults
URL:https://firstbaptistlawrence.com/event/sunday-school/2024-06-23/
END:VEVENT
BEGIN:VEVENT
DTSTART;TZID=America/Chicago:20240623T103000
DTEND;TZID=America/Chicago:20240623T110000
DTSTAMP:20260420T090316
CREATED:20210809T215807Z
LAST-MODIFIED:20230328T223510Z
UID:10020977-1719138600-1719140400@firstbaptistlawrence.com
SUMMARY:Fellowship Time & Children's Explorations
DESCRIPTION:Between Sunday school and the 11:00 a.m. worship service: Coffee and fellowship for adults and youth\, and time with Pastor Cristina for the kids up through 5th grade!
URL:https://firstbaptistlawrence.com/event/fellowship-time-childrens-music-time-2023-04-02/2024-06-23/
LOCATION:First Baptist Church Lawrence\, 1330 Kasold Dr\, Lawrence\, KS\, 66049\, United States
GEO:38.9600713;-95.2774978
X-APPLE-STRUCTURED-LOCATION;VALUE=URI;X-ADDRESS=First Baptist Church Lawrence 1330 Kasold Dr Lawrence KS 66049 United States;X-APPLE-RADIUS=500;X-TITLE=1330 Kasold Dr:geo:-95.2774978,38.9600713
END:VEVENT
BEGIN:VEVENT
DTSTART;TZID=America/Chicago:20240623T110000
DTEND;TZID=America/Chicago:20240623T120000
DTSTAMP:20260420T090316
CREATED:20231010T012613Z
LAST-MODIFIED:20231010T013132Z
UID:10021394-1719140400-1719144000@firstbaptistlawrence.com
SUMMARY:In-person & Virtual Worship
DESCRIPTION:Join us for in-person worship or virtually for the livestream on YouTube or Facebook!
URL:https://firstbaptistlawrence.com/event/in-person-virtual-worship/2024-06-23/
CATEGORIES:Worship
END:VEVENT
BEGIN:VEVENT
DTSTART;TZID=America/Chicago:20240626T183000
DTEND;TZID=America/Chicago:20240626T193000
DTSTAMP:20260420T090316
CREATED:20240512T032009Z
LAST-MODIFIED:20240517T184047Z
UID:10019146-1719426600-1719430200@firstbaptistlawrence.com
SUMMARY:FBC Earthworks Team Purple Book Study
DESCRIPTION:Join us for a Team Purple book study on Darwin Comes to Town: How the Urban Jungle Drives Evolution by Menno Schilthuizen. In person and on Zoom. Find more info about the study and how to get the Zoom link here!
URL:https://firstbaptistlawrence.com/event/fbc-earthworks-team-purple-book-study-2/
CATEGORIES:Earthworks,Team Purple
ATTACH;FMTTYPE=image/jpeg:https://firstbaptistlawrence.com/wp-content/uploads/2024/05/Team-Purple-Book-Study-Wild-Hope-2024_06_26.jpg
END:VEVENT
BEGIN:VEVENT
DTSTART;TZID=America/Chicago:20240627T090000
DTEND;TZID=America/Chicago:20240627T110000
DTSTAMP:20260420T090316
CREATED:20240627T043417Z
LAST-MODIFIED:20240627T043419Z
UID:10021477-1719478800-1719486000@firstbaptistlawrence.com
SUMMARY:FBC Earthworks Team Green Hazardous Waste Pickup
DESCRIPTION:If you signed up by the deadline\, please set your hazardous waste items out in an accessible spot and Team Green will come by to collect them for you.
URL:https://firstbaptistlawrence.com/event/fbc-earthworks-team-green-hazardous-waste-pickup-4/
CATEGORIES:Earthworks,Team Green Hazardous Waste Collection,Team Green
ATTACH;FMTTYPE=image/jpeg:https://firstbaptistlawrence.com/wp-content/uploads/2024/06/Team-Green-Hazardous-Waste-Pickup-2024-06-PP.jpg
END:VEVENT
BEGIN:VEVENT
DTSTART;TZID=America/Chicago:20240628T180000
DTEND;TZID=America/Chicago:20240628T193000
DTSTAMP:20260420T090316
CREATED:20240622T232112Z
LAST-MODIFIED:20240622T232821Z
UID:10021475-1719597600-1719603000@firstbaptistlawrence.com
SUMMARY:FBC Earthworks Team Orange Agape Meal
DESCRIPTION:Join Team Orange for a meal made with nutritious\, sustainable ingredients!
URL:https://firstbaptistlawrence.com/event/fbc-earthworks-team-orange-agape-meal/
ATTACH;FMTTYPE=image/jpeg:https://firstbaptistlawrence.com/wp-content/uploads/2024/06/Team-Orange-Agape-Meal-2024_06_28-PP.jpg
END:VEVENT
END:VCALENDAR