BEGIN:VCALENDAR
VERSION:2.0
PRODID:-//First Baptist Church - ECPv6.15.20//NONSGML v1.0//EN
CALSCALE:GREGORIAN
METHOD:PUBLISH
X-ORIGINAL-URL:https://firstbaptistlawrence.com
X-WR-CALDESC:Events for First Baptist Church
REFRESH-INTERVAL;VALUE=DURATION:PT1H
X-Robots-Tag:noindex
X-PUBLISHED-TTL:PT1H
BEGIN:VTIMEZONE
TZID:America/Chicago
BEGIN:DAYLIGHT
TZOFFSETFROM:-0600
TZOFFSETTO:-0500
TZNAME:CDT
DTSTART:20230312T080000
END:DAYLIGHT
BEGIN:STANDARD
TZOFFSETFROM:-0500
TZOFFSETTO:-0600
TZNAME:CST
DTSTART:20231105T070000
END:STANDARD
BEGIN:DAYLIGHT
TZOFFSETFROM:-0600
TZOFFSETTO:-0500
TZNAME:CDT
DTSTART:20240310T080000
END:DAYLIGHT
BEGIN:STANDARD
TZOFFSETFROM:-0500
TZOFFSETTO:-0600
TZNAME:CST
DTSTART:20241103T070000
END:STANDARD
BEGIN:DAYLIGHT
TZOFFSETFROM:-0600
TZOFFSETTO:-0500
TZNAME:CDT
DTSTART:20250309T080000
END:DAYLIGHT
BEGIN:STANDARD
TZOFFSETFROM:-0500
TZOFFSETTO:-0600
TZNAME:CST
DTSTART:20251102T070000
END:STANDARD
END:VTIMEZONE
BEGIN:VEVENT
DTSTART;TZID=America/Chicago:20241117T083800
DTEND;TZID=America/Chicago:20241117T093000
DTSTAMP:20260424T022521
CREATED:20241106T233946Z
LAST-MODIFIED:20241107T000416Z
UID:10021619-1731832680-1731835800@firstbaptistlawrence.com
SUMMARY:838 Worship Service
DESCRIPTION:Join us each Sunday at 8:38 a.m. in person in the Judson Room (enter front double doors and walk straight ahead until you find people)! This service is less formal and more interactive in nature\, and is not livestreamed. (Join us at 11:00 a.m. for a livestreamed service!) It’s about 45 minutes long.
URL:https://firstbaptistlawrence.com/event/838-worship-service-2/2024-11-17/
END:VEVENT
BEGIN:VEVENT
DTSTART;TZID=America/Chicago:20241117T093000
DTEND;TZID=America/Chicago:20241117T103000
DTSTAMP:20260424T022521
CREATED:20240121T033836Z
LAST-MODIFIED:20240121T033837Z
UID:10018972-1731835800-1731839400@firstbaptistlawrence.com
SUMMARY:Sunday School
DESCRIPTION:Join us for a children’s\, youth\, or adult Sunday school class! More info here: \n\n\n\nChildren \n\n\n\nYouth \n\n\n\nAdults
URL:https://firstbaptistlawrence.com/event/sunday-school/2024-11-17/
END:VEVENT
BEGIN:VEVENT
DTSTART;TZID=America/Chicago:20241117T103000
DTEND;TZID=America/Chicago:20241117T110000
DTSTAMP:20260424T022521
CREATED:20210809T215807Z
LAST-MODIFIED:20230328T223510Z
UID:10020998-1731839400-1731841200@firstbaptistlawrence.com
SUMMARY:Fellowship Time & Children's Explorations
DESCRIPTION:Between Sunday school and the 11:00 a.m. worship service: Coffee and fellowship for adults and youth\, and time with Pastor Cristina for the kids up through 5th grade!
URL:https://firstbaptistlawrence.com/event/fellowship-time-childrens-music-time-2023-04-02/2024-11-17/
LOCATION:First Baptist Church Lawrence\, 1330 Kasold Dr\, Lawrence\, KS\, 66049\, United States
GEO:38.9600713;-95.2774978
X-APPLE-STRUCTURED-LOCATION;VALUE=URI;X-ADDRESS=First Baptist Church Lawrence 1330 Kasold Dr Lawrence KS 66049 United States;X-APPLE-RADIUS=500;X-TITLE=1330 Kasold Dr:geo:-95.2774978,38.9600713
END:VEVENT
BEGIN:VEVENT
DTSTART;TZID=America/Chicago:20241117T110000
DTEND;TZID=America/Chicago:20241117T120000
DTSTAMP:20260424T022521
CREATED:20240704T041624Z
LAST-MODIFIED:20240704T041625Z
UID:10021497-1731841200-1731844800@firstbaptistlawrence.com
SUMMARY:In-person & Virtual Worship
DESCRIPTION:Join us for in-person worship or virtually for the livestream on YouTube or Facebook!
URL:https://firstbaptistlawrence.com/event/in-person-virtual-worship-2/2024-11-17/
END:VEVENT
BEGIN:VEVENT
DTSTART;TZID=America/Chicago:20241120T170000
DTEND;TZID=America/Chicago:20241120T170100
DTSTAMP:20260424T022521
CREATED:20241120T184620Z
LAST-MODIFIED:20241120T184622Z
UID:10021690-1732122000-1732122060@firstbaptistlawrence.com
SUMMARY:Signup Deadline: Team Green Hazardous Waste Pickup
DESCRIPTION:Sign up by 11/20 at 5:00 p.m. to have Team Green come by your house to pick up your hazardous waste items. Find more details and signup link on the Hazardous Waste Pickup page.
URL:https://firstbaptistlawrence.com/event/signup-deadline-team-green-hazardous-waste-pickup-6/
CATEGORIES:Earthworks,Team Green Hazardous Waste Collection,Team Green
ATTACH;FMTTYPE=image/jpeg:https://firstbaptistlawrence.com/wp-content/uploads/2024/09/Haz-Waste-Signup-Deadline-1920x1080-1.jpg
END:VEVENT
BEGIN:VEVENT
DTSTART;TZID=America/Chicago:20241121T090000
DTEND;TZID=America/Chicago:20241121T110000
DTSTAMP:20260424T022521
CREATED:20241120T184756Z
LAST-MODIFIED:20241120T184758Z
UID:10021691-1732179600-1732186800@firstbaptistlawrence.com
SUMMARY:Team Green Hazardous Waste Pickup
DESCRIPTION:If you signed up by 11/20 at 5:00 p.m.\, Team Green will come by your house to pick up your hazardous waste items this morning\, 11/21. More details and signup link here.
URL:https://firstbaptistlawrence.com/event/team-green-hazardous-waste-pickup-6/
CATEGORIES:Earthworks,Team Green Hazardous Waste Collection,Team Green
ATTACH;FMTTYPE=image/jpeg:https://firstbaptistlawrence.com/wp-content/uploads/2024/09/Haz-Waste-Pickup-1920x1080-1.jpg
END:VEVENT
BEGIN:VEVENT
DTSTART;TZID=America/Chicago:20241123T130000
DTEND;TZID=America/Chicago:20241123T140000
DTSTAMP:20260424T022521
CREATED:20241113T213709Z
LAST-MODIFIED:20250319T193900Z
UID:10021678-1732366800-1732370400@firstbaptistlawrence.com
SUMMARY:Harvesters Mobile Food Pantry
DESCRIPTION:The Harvesters Mobile Food Pantry comes to FBC on the 4th Saturday of each month\, from 1:00 to 2:00 p.m.  (EXCEPTION: there may be alternate distribution dates during the months of November and December when the 4th Saturday falls on Thanksgiving weekend and Christmas weekend. In 2024\, we’re having distributions in both months—on 11/23 and 12/28/24!)  \n\n\n\nThe mobile food pantry is a drive-through distribution in the FBC parking lot. \n\n\n\n\nDistribution will be limited to no more than 3 households per vehicle. \n\n\n\nGuests\, please clear as much space as possible in your trunk or cargo area. We would like to avoid loading inside the seats of the vehicles to better social distance. To the extent possible\, limit the number of passengers with you. (We do understand some families must bring their children along.) \n\n\n\nBlessings to you all from FBC and our mobile food pantry partners.\n\n\n\n\n\n\n\n\nCatholic Charities of Northeast Kansas\, Trinity Interfaith Food Pantry\, Pelathe District Boy Scouts\, and First Baptist Church are partners in carrying out this distribution. \n\n\n\nYou can learn more about Harvesters on their website here. You can also visit this page on their site\, where you can type your zip code into a food assistance service locator to see organizations in your area where you may receive assistance. There\, you can click to specify the service type you seek: Pantry\, Mobile Distribution\, or Onsite Meals.
URL:https://firstbaptistlawrence.com/event/harvesters-mobile-food-pantry/2024-11-23/
ATTACH;FMTTYPE=image/jpeg:https://firstbaptistlawrence.com/wp-content/uploads/2019/10/Mobile-Food-Pantry-PP-Slide-no-date-.jpg
END:VEVENT
END:VCALENDAR