BEGIN:VCALENDAR
VERSION:2.0
PRODID:-//First Baptist Church - ECPv6.15.20//NONSGML v1.0//EN
CALSCALE:GREGORIAN
METHOD:PUBLISH
X-ORIGINAL-URL:https://firstbaptistlawrence.com
X-WR-CALDESC:Events for First Baptist Church
REFRESH-INTERVAL;VALUE=DURATION:PT1H
X-Robots-Tag:noindex
X-PUBLISHED-TTL:PT1H
BEGIN:VTIMEZONE
TZID:America/Chicago
BEGIN:DAYLIGHT
TZOFFSETFROM:-0600
TZOFFSETTO:-0500
TZNAME:CDT
DTSTART:20240310T080000
END:DAYLIGHT
BEGIN:STANDARD
TZOFFSETFROM:-0500
TZOFFSETTO:-0600
TZNAME:CST
DTSTART:20241103T070000
END:STANDARD
BEGIN:DAYLIGHT
TZOFFSETFROM:-0600
TZOFFSETTO:-0500
TZNAME:CDT
DTSTART:20250309T080000
END:DAYLIGHT
BEGIN:STANDARD
TZOFFSETFROM:-0500
TZOFFSETTO:-0600
TZNAME:CST
DTSTART:20251102T070000
END:STANDARD
BEGIN:DAYLIGHT
TZOFFSETFROM:-0600
TZOFFSETTO:-0500
TZNAME:CDT
DTSTART:20260308T080000
END:DAYLIGHT
BEGIN:STANDARD
TZOFFSETFROM:-0500
TZOFFSETTO:-0600
TZNAME:CST
DTSTART:20261101T070000
END:STANDARD
END:VTIMEZONE
BEGIN:VEVENT
DTSTART;TZID=America/Chicago:20250615T083800
DTEND;TZID=America/Chicago:20250615T093000
DTSTAMP:20260425T090256
CREATED:20250613T203405Z
LAST-MODIFIED:20250613T203409Z
UID:10021649-1749976680-1749979800@firstbaptistlawrence.com
SUMMARY:838 Worship Service
DESCRIPTION:We begin our Summer Worship Series\, Seeking Peace Together\, this morning in both services! Join us each Sunday at 8:38 a.m. in person in the Judson Room (enter front double doors and walk straight ahead until you find people)! This service is less formal and more interactive in nature\, and is not livestreamed. (Join us at 11:00 a.m. for a livestreamed service!) It’s about 45 minutes long.
URL:https://firstbaptistlawrence.com/event/838-worship-service-5/
ATTACH;FMTTYPE=image/jpeg:https://firstbaptistlawrence.com/wp-content/uploads/2024/11/1.jpg
END:VEVENT
BEGIN:VEVENT
DTSTART;TZID=America/Chicago:20250615T093000
DTEND;TZID=America/Chicago:20250615T103000
DTSTAMP:20260425T090256
CREATED:20250418T174322Z
LAST-MODIFIED:20250418T174324Z
UID:10022105-1749979800-1749983400@firstbaptistlawrence.com
SUMMARY:Sunday School
DESCRIPTION:Join us for a children’s\, youth\, or adult Sunday school class! More info here: \n\n\n\nChildren \n\n\n\nYouth \n\n\n\nAdults
URL:https://firstbaptistlawrence.com/event/sunday-school-3/2025-06-15/
END:VEVENT
BEGIN:VEVENT
DTSTART;TZID=America/Chicago:20250615T093000
DTEND;TZID=America/Chicago:20250615T110000
DTSTAMP:20260425T090256
CREATED:20250611T225335Z
LAST-MODIFIED:20250611T225401Z
UID:10022288-1749979800-1749985200@firstbaptistlawrence.com
SUMMARY:Electronics Recycling Drop-off at FBC Garage
DESCRIPTION:Drop off your dead electronics at the FBC garage and FBC Earthworks Team Green will ferry it to the county-wide electronics event on 6/21 for you! No signup required for dropoff\, just show up at the designated times. \n\n\n\nTwo other dropoff times are scheduled for Thursday\, June 19\, 8-11a or Friday\, June 20\, 3-5p. \n\n\n\nCan’t make it for a dropoff yourself? Sign up by 5:00p on 6/19\, and Team Green will come by your house to pick it up on 6/20 between 9-11a! \n\n\n\nWe’re also looking for volunteers for this event on both days. \n\n\n\nGet more info\, sign up for a pickup\, and sign up to volunteer at this page.
URL:https://firstbaptistlawrence.com/event/electronics-recycling-drop-off-at-fbc-garage-3/
CATEGORIES:Earthworks,Team Green Electronics Waste Collection,Team Green
ATTACH;FMTTYPE=image/jpeg:https://firstbaptistlawrence.com/wp-content/uploads/2025/06/Team-Green-2025_06-Electronics-Waste-Pickup-1920x1080px.jpg
END:VEVENT
BEGIN:VEVENT
DTSTART;TZID=America/Chicago:20250615T103000
DTEND;TZID=America/Chicago:20250615T110000
DTSTAMP:20260425T090256
CREATED:20210809T215807Z
LAST-MODIFIED:20230328T223510Z
UID:10021028-1749983400-1749985200@firstbaptistlawrence.com
SUMMARY:Fellowship Time & Children's Explorations
DESCRIPTION:Between Sunday school and the 11:00 a.m. worship service: Coffee and fellowship for adults and youth\, and time with Pastor Cristina for the kids up through 5th grade!
URL:https://firstbaptistlawrence.com/event/fellowship-time-childrens-music-time-2023-04-02/2025-06-15/
LOCATION:First Baptist Church Lawrence\, 1330 Kasold Dr\, Lawrence\, KS\, 66049\, United States
GEO:38.9600713;-95.2774978
X-APPLE-STRUCTURED-LOCATION;VALUE=URI;X-ADDRESS=First Baptist Church Lawrence 1330 Kasold Dr Lawrence KS 66049 United States;X-APPLE-RADIUS=500;X-TITLE=1330 Kasold Dr:geo:-95.2774978,38.9600713
END:VEVENT
BEGIN:VEVENT
DTSTART;TZID=America/Chicago:20250615T110000
DTEND;TZID=America/Chicago:20250615T120000
DTSTAMP:20260425T090256
CREATED:20250613T203514Z
LAST-MODIFIED:20250613T203527Z
UID:10022215-1749985200-1749988800@firstbaptistlawrence.com
SUMMARY:In-person & Virtual Worship
DESCRIPTION:We begin our Summer Worship Series\, Seeking Peace Together\, this morning in both services! Join us for in-person worship or virtually for the livestream on YouTube or Facebook!
URL:https://firstbaptistlawrence.com/event/in-person-virtual-worship-6/
CATEGORIES:Worship
ATTACH;FMTTYPE=image/jpeg:https://firstbaptistlawrence.com/wp-content/uploads/2024/11/1.jpg
END:VEVENT
BEGIN:VEVENT
DTSTART;TZID=America/Chicago:20250615T123000
DTEND;TZID=America/Chicago:20250615T133000
DTSTAMP:20260425T090256
CREATED:20241212T205607Z
LAST-MODIFIED:20241212T205714Z
UID:10021726-1749990600-1749994200@firstbaptistlawrence.com
SUMMARY:2-Way Sermon Discussion Group
DESCRIPTION:The Two-Way Sermon Discussion is just that—an opportunity to discuss the past Sunday’s sermon with Pastor Matt. Pastor Matt provides his sermon manuscript for all to peruse as we talk about the parts that are most salient and meaningful for each of us. The last fifteen minutes is spent reading and discussing the scripture for the next Sunday’s sermon. Often\, he uses Lectio Divina reading and questioning methods to facilitate this discussion. Open to all adults. \n\n\n\nThe 2-way Discussion Group meets in person in the Sojourners Room and virtually on Zoom on Sundays following worship at 12:30 p.m. The meeting time is occasionally rescheduled or cancelled to accommodate other after-church events such as fellowship meals and quarterly business meetings. \n\n\n\nClick the button below to get the Zoom link to attend! \n\n\n\n\nGet Zoom Link
URL:https://firstbaptistlawrence.com/event/2-way-sermon-discussion-group-2/2025-06-15/
END:VEVENT
BEGIN:VEVENT
DTSTART;TZID=America/Chicago:20250619T080000
DTEND;TZID=America/Chicago:20250619T110000
DTSTAMP:20260425T090256
CREATED:20250611T224133Z
LAST-MODIFIED:20250618T053934Z
UID:10022284-1750320000-1750330800@firstbaptistlawrence.com
SUMMARY:Electronics Recycling Drop-off at FBC Garage
DESCRIPTION:Drop off your dead electronics at the FBC garage and FBC Earthworks Team Green will ferry it to the county-wide electronics event on 6/21 for you! No signup required for dropoff\, just show up at the designated times. \n\n\n\nAnother dropoff time is scheduled for Friday\, June 20\, 3-5p. \n\n\n\nCan’t make it for a dropoff yourself? Sign up by 5:00p on 6/19\, and Team Green will come by your house to pick it up on 6/20 between 9-11a! \n\n\n\nWe’re also looking for volunteers for this event on both days. \n\n\n\nGet more info\, sign up for a pickup\, and sign up to volunteer at this page.
URL:https://firstbaptistlawrence.com/event/electronics-recycling-drop-off-at-fbc-garage-4/
CATEGORIES:Earthworks,Team Green Electronics Waste Collection,Team Green
ATTACH;FMTTYPE=image/jpeg:https://firstbaptistlawrence.com/wp-content/uploads/2025/06/Team-Green-2025_06-Electronics-Waste-Pickup-1920x1080px.jpg
END:VEVENT
BEGIN:VEVENT
DTSTART;TZID=America/Chicago:20250619T170000
DTEND;TZID=America/Chicago:20250619T170100
DTSTAMP:20260425T090256
CREATED:20250611T223452Z
LAST-MODIFIED:20250611T224306Z
UID:10022287-1750352400-1750352460@firstbaptistlawrence.com
SUMMARY:Signup Deadline - Team Green Electronics Recycling Home Pick-up
DESCRIPTION:Sign up by this deadline to have FBC Earthworks Team Green pick up your e-waste items from your house! They will come by your house on Friday\, June 20 between 9–11a. \n\n\n\n(A second option: You can bring your items to the FBC garage on Sunday June 15\, 9:30–11a\, Thursday June 19\, 8–11a\, or Friday June 20\, 3–5p. This option does not require signup\, just show up and drop off your stuff at the FBC garage.) \n\n\n\nWe also need volunteers! \n\n\n\nClick here for more info\, to sign up for a pickup\, or to volunteer.
URL:https://firstbaptistlawrence.com/event/signup-deadline-team-green-electronics-recycling-home-pick-up/
CATEGORIES:Earthworks,Team Green Electronics Waste Collection,Team Green
ATTACH;FMTTYPE=image/jpeg:https://firstbaptistlawrence.com/wp-content/uploads/2025/06/Team-Green-2025_06-Electronics-Waste-Pickup-1920x1080px.jpg
END:VEVENT
BEGIN:VEVENT
DTSTART;TZID=America/Chicago:20250620T090000
DTEND;TZID=America/Chicago:20250620T110000
DTSTAMP:20260425T090256
CREATED:20250611T230708Z
LAST-MODIFIED:20250611T230711Z
UID:10022291-1750410000-1750417200@firstbaptistlawrence.com
SUMMARY:Team Green Electronics Recycling Home Pick-up
DESCRIPTION:If you signed up by yesterday’s deadline\, FBC Earthworks Team Green will pick up your e-waste items from your house today sometime between 9–11a. \n\n\n\n(A second option: You can bring your items to the FBC garage on Sunday June 15\, 9:30-11a\, Thursday June 19\, 8-11a\, or Friday June 20\, 3-5p. This option does not require signup\, just show up and drop off your stuff at the FBC garage.) \n\n\n\nWe also need volunteers! \n\n\n\nClick here for more info\, to sign up for a pickup\, or to volunteer.
URL:https://firstbaptistlawrence.com/event/team-green-electronics-recycling-home-pick-up/
CATEGORIES:Earthworks,Team Green Electronics Waste Collection,Team Green
ATTACH;FMTTYPE=image/jpeg:https://firstbaptistlawrence.com/wp-content/uploads/2025/06/Team-Green-2025_06-Electronics-Waste-Pickup-1920x1080px.jpg
END:VEVENT
BEGIN:VEVENT
DTSTART;TZID=America/Chicago:20250620T150000
DTEND;TZID=America/Chicago:20250620T170000
DTSTAMP:20260425T090256
CREATED:20250611T225801Z
LAST-MODIFIED:20250611T225826Z
UID:10022289-1750431600-1750438800@firstbaptistlawrence.com
SUMMARY:Electronics Recycling Drop-off at FBC Garage
DESCRIPTION:Drop off your dead electronics at the FBC garage and FBC Earthworks Team Green will ferry it to the county-wide electronics event on 6/21 for you! No signup required for dropoff\, just show up at the designated times. \n\n\n\nTwo other dropoff times are scheduled for Sunday\, June 15\, 9:30-11a or Thursday\, June 19\, 8-11a. \n\n\n\nCan’t make it for a dropoff yourself? Sign up by 5:00p on 6/19\, and Team Green will come by your house to pick it up on 6/20 between 9-11a! \n\n\n\nWe’re also looking for volunteers for this event on both days. \n\n\n\nGet more info\, sign up for a pickup\, and sign up to volunteer at this page.
URL:https://firstbaptistlawrence.com/event/32681/
CATEGORIES:Earthworks,Team Green Electronics Waste Collection,Team Green
ATTACH;FMTTYPE=image/jpeg:https://firstbaptistlawrence.com/wp-content/uploads/2025/06/Team-Green-2025_06-Electronics-Waste-Pickup-1920x1080px.jpg
END:VEVENT
BEGIN:VEVENT
DTSTART;TZID=America/Chicago:20250621T080000
DTEND;TZID=America/Chicago:20250621T100000
DTSTAMP:20260425T090256
CREATED:20250618T054157Z
LAST-MODIFIED:20250618T153215Z
UID:10022292-1750492800-1750500000@firstbaptistlawrence.com
SUMMARY:Wonder Pollinator Garden Work Day
DESCRIPTION:Bring your garden clippers/shearers and a water bottle on Saturday as we gather to tidy up the pollinator garden! Many hands make light work\, as they say! \n\n\n\nYou can sign up to let us know you plan to come…but we also won’t mind if you just show up unannounced! 🙂
URL:https://firstbaptistlawrence.com/event/wonder-pollinator-garden-work-day/
CATEGORIES:Earthworks,Pollinator Garden
ATTACH;FMTTYPE=image/jpeg:https://firstbaptistlawrence.com/wp-content/uploads/2025/06/2025_06_21-Pollinator-Garden-Work-Day.jpg
END:VEVENT
END:VCALENDAR