BEGIN:VCALENDAR
VERSION:2.0
PRODID:-//First Baptist Church - ECPv6.15.20//NONSGML v1.0//EN
CALSCALE:GREGORIAN
METHOD:PUBLISH
X-WR-CALNAME:First Baptist Church
X-ORIGINAL-URL:https://firstbaptistlawrence.com
X-WR-CALDESC:Events for First Baptist Church
REFRESH-INTERVAL;VALUE=DURATION:PT1H
X-Robots-Tag:noindex
X-PUBLISHED-TTL:PT1H
BEGIN:VTIMEZONE
TZID:America/Chicago
BEGIN:DAYLIGHT
TZOFFSETFROM:-0600
TZOFFSETTO:-0500
TZNAME:CDT
DTSTART:20250309T080000
END:DAYLIGHT
BEGIN:STANDARD
TZOFFSETFROM:-0500
TZOFFSETTO:-0600
TZNAME:CST
DTSTART:20251102T070000
END:STANDARD
BEGIN:DAYLIGHT
TZOFFSETFROM:-0600
TZOFFSETTO:-0500
TZNAME:CDT
DTSTART:20260308T080000
END:DAYLIGHT
BEGIN:STANDARD
TZOFFSETFROM:-0500
TZOFFSETTO:-0600
TZNAME:CST
DTSTART:20261101T070000
END:STANDARD
BEGIN:DAYLIGHT
TZOFFSETFROM:-0600
TZOFFSETTO:-0500
TZNAME:CDT
DTSTART:20270314T080000
END:DAYLIGHT
BEGIN:STANDARD
TZOFFSETFROM:-0500
TZOFFSETTO:-0600
TZNAME:CST
DTSTART:20271107T070000
END:STANDARD
END:VTIMEZONE
BEGIN:VEVENT
DTSTART;TZID=America/Chicago:20260329T083800
DTEND;TZID=America/Chicago:20260329T093000
DTSTAMP:20260425T194808
CREATED:20260319T040454Z
LAST-MODIFIED:20260319T040457Z
UID:10023119-1774773480-1774776600@firstbaptistlawrence.com
SUMMARY:Palm Sunday 838 Worship Service
DESCRIPTION:Join us on Palm Sunday at 8:38 a.m. in person in the Judson Room (enter front double doors and walk straight ahead until you find people)! This service is less formal and more interactive in nature\, and is not livestreamed. (Join us at 11:00 a.m. for a livestreamed service!) It’s about 45 minutes long.
URL:https://firstbaptistlawrence.com/event/palm-sunday-838-worship-service/
ATTACH;FMTTYPE=image/jpeg:https://firstbaptistlawrence.com/wp-content/uploads/2026/03/Palm-Sunday-2026-PP.jpg
END:VEVENT
BEGIN:VEVENT
DTSTART;TZID=America/Chicago:20260329T093000
DTEND;TZID=America/Chicago:20260329T103000
DTSTAMP:20260425T194808
CREATED:20250418T174322Z
LAST-MODIFIED:20250418T174324Z
UID:10022146-1774776600-1774780200@firstbaptistlawrence.com
SUMMARY:Sunday School
DESCRIPTION:Join us for a children’s\, youth\, or adult Sunday school class! More info here: \n\n\n\nChildren \n\n\n\nYouth \n\n\n\nAdults
URL:https://firstbaptistlawrence.com/event/sunday-school-3/2026-03-29/
END:VEVENT
BEGIN:VEVENT
DTSTART;TZID=America/Chicago:20260329T103000
DTEND;TZID=America/Chicago:20260329T110000
DTSTAMP:20260425T194808
CREATED:20210809T215807Z
LAST-MODIFIED:20230328T223510Z
UID:10021069-1774780200-1774782000@firstbaptistlawrence.com
SUMMARY:Fellowship Time & Children's Explorations
DESCRIPTION:Between Sunday school and the 11:00 a.m. worship service: Coffee and fellowship for adults and youth\, and time with Pastor Cristina for the kids up through 5th grade!
URL:https://firstbaptistlawrence.com/event/fellowship-time-childrens-music-time-2023-04-02/2026-03-29/
LOCATION:First Baptist Church Lawrence\, 1330 Kasold Dr\, Lawrence\, KS\, 66049\, United States
GEO:38.9600713;-95.2774978
X-APPLE-STRUCTURED-LOCATION;VALUE=URI;X-ADDRESS=First Baptist Church Lawrence 1330 Kasold Dr Lawrence KS 66049 United States;X-APPLE-RADIUS=500;X-TITLE=1330 Kasold Dr:geo:-95.2774978,38.9600713
END:VEVENT
BEGIN:VEVENT
DTSTART;TZID=America/Chicago:20260329T110000
DTEND;TZID=America/Chicago:20260329T120000
DTSTAMP:20260425T194808
CREATED:20260319T040939Z
LAST-MODIFIED:20260319T040943Z
UID:10023120-1774782000-1774785600@firstbaptistlawrence.com
SUMMARY:Palm Sunday In-Person and Virtual Worship
DESCRIPTION:Join us for Palm Sunday in-person worship or virtually for the livestream on YouTube or Facebook!
URL:https://firstbaptistlawrence.com/event/palm-sunday-in-person-and-virtual-worship/
ATTACH;FMTTYPE=image/jpeg:https://firstbaptistlawrence.com/wp-content/uploads/2026/03/Palm-Sunday-2026-PP.jpg
END:VEVENT
BEGIN:VEVENT
DTSTART;TZID=America/Chicago:20260329T123000
DTEND;TZID=America/Chicago:20260329T133000
DTSTAMP:20260425T194808
CREATED:20251206T015019Z
LAST-MODIFIED:20251206T015129Z
UID:10022819-1774787400-1774791000@firstbaptistlawrence.com
SUMMARY:2-Way Sermon Discussion Group
DESCRIPTION:The Two-Way Sermon Discussion is just that—an opportunity to discuss the past Sunday’s sermon with Pastor Matt. Pastor Matt provides his sermon manuscript for all to peruse as we talk about the parts that are most salient and meaningful for each of us. The last fifteen minutes is spent reading and discussing the scripture for the next Sunday’s sermon. Often\, he uses Lectio Divina reading and questioning methods to facilitate this discussion. Open to all adults. \n\n\n\nThe 2-way Discussion Group meets in person in the Sojourners Room and virtually on Zoom on Sundays following worship at 12:30 p.m. The meeting time is occasionally rescheduled or cancelled to accommodate other after-church events such as fellowship meals and quarterly business meetings. \n\n\n\nClick the button below to get the Zoom link to attend! \n\n\n\n\nGet Zoom Link
URL:https://firstbaptistlawrence.com/event/2-way-sermon-discussion-group-6/2026-03-29/
END:VEVENT
BEGIN:VEVENT
DTSTART;TZID=America/Chicago:20260331T120000
DTEND;TZID=America/Chicago:20260331T130000
DTSTAMP:20260425T194808
CREATED:20260319T025406Z
LAST-MODIFIED:20260319T025408Z
UID:10023117-1774958400-1774962000@firstbaptistlawrence.com
SUMMARY:Tuesday Lenten Lunch and Learn Book Study
DESCRIPTION:Every Tuesday at noon during Lent\, bring your lunch and join us in the Sojourners Room or on Zoom to discuss the book An Unlikely Lent: Extraordinary People of the Easter Story by Rachel Billups. Request Zoom link here.
URL:https://firstbaptistlawrence.com/event/tuesday-lenten-lunch-and-learn-book-study-5/
ATTACH;FMTTYPE=image/jpeg:https://firstbaptistlawrence.com/wp-content/uploads/2026/03/Lenten-Lunch-Learn-2026-updated-PP-Slide.jpg
END:VEVENT
BEGIN:VEVENT
DTSTART;TZID=America/Chicago:20260401T183000
DTEND;TZID=America/Chicago:20260401T193000
DTSTAMP:20260425T194808
CREATED:20260319T023544Z
LAST-MODIFIED:20260319T023548Z
UID:10023111-1775068200-1775071800@firstbaptistlawrence.com
SUMMARY:Handbell and Chancel Choirs Combined Rehearsal
DESCRIPTION:It’s no April Fool’s joke—the FBC Handbell Choir and Chancel Choir will rehearse together tonight to prepare Easter music! Also\, even if you’re not a regular choir member\, you’re invited to join the Chancel Choir in singing the Easter Sunday anthem\, Reminder: NO rehearsal for either choir tomorrow\, Thursday\, April 2 due to the Maundy Thursday worship service.
URL:https://firstbaptistlawrence.com/event/handbell-and-chancel-choirs-combined-rehearsal/
END:VEVENT
BEGIN:VEVENT
DTSTART;TZID=America/Chicago:20260402T190000
DTEND;TZID=America/Chicago:20260402T200000
DTSTAMP:20260425T194808
CREATED:20260319T051613Z
LAST-MODIFIED:20260319T051617Z
UID:10023121-1775156400-1775160000@firstbaptistlawrence.com
SUMMARY:Maundy Thursday Worship Service
DESCRIPTION:Join us for Maundy Thursday worship as we remember that in Jesus\, the greatest of all became the servant of all. We’ll meet in person in the sanctuary\, or you can join us virtually for the livestream on YouTube or Facebook.
URL:https://firstbaptistlawrence.com/event/maundy-thursday-worship-service/
ATTACH;FMTTYPE=image/jpeg:https://firstbaptistlawrence.com/wp-content/uploads/2026/03/Maundy-Thursday-2026.jpg
END:VEVENT
BEGIN:VEVENT
DTSTART;TZID=America/Chicago:20260403T120000
DTEND;TZID=America/Chicago:20260403T130000
DTSTAMP:20260425T194808
CREATED:20260321T143744Z
LAST-MODIFIED:20260321T143747Z
UID:10023122-1775217600-1775221200@firstbaptistlawrence.com
SUMMARY:Good Friday - Sanctuary Open for Prayer and Reflection
DESCRIPTION:The FBC sanctuary will be open for Good Friday prayer and reflection. All are welcome.
URL:https://firstbaptistlawrence.com/event/good-friday-sanctuary-open-for-prayer-and-reflection/
ATTACH;FMTTYPE=image/jpeg:https://firstbaptistlawrence.com/wp-content/uploads/2026/03/Good-Friday-2026.jpg
END:VEVENT
BEGIN:VEVENT
DTSTART;TZID=America/Chicago:20260404T100000
DTEND;TZID=America/Chicago:20260404T110000
DTSTAMP:20260425T194808
CREATED:20260321T144412Z
LAST-MODIFIED:20260404T000514Z
UID:10023123-1775296800-1775300400@firstbaptistlawrence.com
SUMMARY:Easter Egg Hunt for Children and Families
DESCRIPTION:*Now indoors!* All families are welcome! We’ll read an Easter story and then have an egg hunt on the playground. Please bring your own basket/bag to collect candy.
URL:https://firstbaptistlawrence.com/event/easter-egg-hunt-for-children-and-families/
ATTACH;FMTTYPE=image/jpeg:https://firstbaptistlawrence.com/wp-content/uploads/2026/03/Easter-Egg-Hunt-Eggstravaganza-2026-1.jpg
END:VEVENT
END:VCALENDAR